BEGIN:VCALENDAR
VERSION:2.0
PRODID:-//virginiaisformusiclovers.live - ECPv6.15.20//NONSGML v1.0//EN
CALSCALE:GREGORIAN
METHOD:PUBLISH
X-WR-CALNAME:virginiaisformusiclovers.live
X-ORIGINAL-URL:https://virginiaisformusiclovers.live
X-WR-CALDESC:Events for virginiaisformusiclovers.live
REFRESH-INTERVAL;VALUE=DURATION:PT1H
X-Robots-Tag:noindex
X-PUBLISHED-TTL:PT1H
BEGIN:VTIMEZONE
TZID:UTC
BEGIN:STANDARD
TZOFFSETFROM:+0000
TZOFFSETTO:+0000
TZNAME:UTC
DTSTART:20240101T000000
END:STANDARD
END:VTIMEZONE
BEGIN:VEVENT
DTSTART;TZID=UTC:20251120T180000
DTEND;TZID=UTC:20251120T210000
DTSTAMP:20260421T100435
CREATED:20250926T173039Z
LAST-MODIFIED:20250926T173052Z
UID:13119-1763661600-1763672400@virginiaisformusiclovers.live
SUMMARY:Acoustic Aubrey at SkyBar
DESCRIPTION:« All Performances\n 				\n				\n				\n				\n					This performance has passed. \n				\n				\n				\n				\n					\n	Acoustic Aubrey at SkyBar				\n				\n				\n				\n					\n		\n			November 20\n\n	\n\n	  at  \n\n\n6:00 pm\n\n		\n\n\n\n	\n	  -  \n\n9:00 pm\n\n\n\n	\n				\n				\n				\n				\n					\n	\n	Website:	\n	https://www.facebook.com/share/1GwvSu6Cxq/?mibextid=wwXIfr\n\n				\n				\n				\n				\n					\n	\n				\n				\n				\n				\n									Acoustic Aubrey has been playing music in the central and northern Virginia area for 20 years. Aubrey plays a plethora of styles to include\, rock\, americana\, jazz\, R&B etc… He is adept to reading crowds and playing the perfect music for any venue. As a teacher Aubrey identifies the passion each student has for music and builds strictly off each students desire to understand music. 								\n				\n		\n				\n				\n					\n				\n				\n	\n	SkyBar (Lexington)\n	\n	\n\n125 W Nelson St\n	\n		\n		Lexington\,\n\n	VA\n\n	24450\n\n\n\n\n\n	+ Google Map \n\n\n	\n					\n						\n	 \n\n\n	\n	 \n\n\n\n	\n\n\n\n		\n	\n				\n				\n				\n		\n				\n				\n					\n	\n		\n\n	\n	Add to calendar	\n		\n	\n\n		\n			\n									\n	Google Calendar\n\n									\n	iCalendar\n\n									\n	Outlook 365\n\n									\n	Outlook Live\n\n							\n		\n\n		\n	\n\n				\n				\n				\n		\n				\n				\n					\n	\n		\n\n				Jimmy Lee - Wolf Gap Vineyard	\n\n\n		\n	\n		Dave Nemetz at Loudoun Brewing Company
URL:https://virginiaisformusiclovers.live/events/acoustic-aubrey-at-skybar-4/
LOCATION:SkyBar (Lexington)\, 125 W Nelson St\, Lexington\, VA\, 24450
ATTACH;FMTTYPE=image/png:https://virginiaisformusiclovers.live/wp-content/uploads/2025/09/acousticaubrey-e1760981832238.png
END:VEVENT
END:VCALENDAR