BEGIN:VCALENDAR
VERSION:2.0
PRODID:-//virginiaisformusiclovers.live - ECPv6.15.20//NONSGML v1.0//EN
CALSCALE:GREGORIAN
METHOD:PUBLISH
X-WR-CALNAME:virginiaisformusiclovers.live
X-ORIGINAL-URL:https://virginiaisformusiclovers.live
X-WR-CALDESC:Events for virginiaisformusiclovers.live
REFRESH-INTERVAL;VALUE=DURATION:PT1H
X-Robots-Tag:noindex
X-PUBLISHED-TTL:PT1H
BEGIN:VTIMEZONE
TZID:UTC
BEGIN:STANDARD
TZOFFSETFROM:+0000
TZOFFSETTO:+0000
TZNAME:UTC
DTSTART:20250101T000000
END:STANDARD
END:VTIMEZONE
BEGIN:VEVENT
DTSTART;TZID=UTC:20260206T180000
DTEND;TZID=UTC:20260206T210000
DTSTAMP:20260423T104901
CREATED:20251215T175720Z
LAST-MODIFIED:20251215T210818Z
UID:14660-1770400800-1770411600@virginiaisformusiclovers.live
SUMMARY:First Friday with Adeline Csontos - Wolf Gap Vineyard & Winery
DESCRIPTION:« All Performances\n 				\n				\n				\n				\n							\n						\n				\n				\n				\n					This performance has passed. \n				\n				\n				\n				\n					\n	First Friday with Adeline Csontos – Wolf Gap Vineyard & Winery				\n				\n				\n				\n					\n		\n			February 6\n\n	\n\n	  at  \n\n\n6:00 pm\n\n		\n\n\n\n	\n	  -  \n\n9:00 pm\n\n\n\n	\n				\n				\n				\n				\n					\n	\n	Website:	\n	https://www.facebook.com/share/17mqijo5yt/\n\n				\n				\n				\n				\n							Join us for February First Friday! With delicious BBQ from Fat Boyz\, and great music with Adeline Csontos.\nShe is a 16 year old singer-songwriter from Allentown\, Pa who desires to bring peace and joy to others with her music. She brings an authentic pop style music while performing it with her own original acoustic style. She has over 40 original songs and continues to write new songs. Her audience can expect an inspirational mix of original songs\, along with timeless cover songs. Samples of her music can be found on @MusicByAdeline and on YouTube.\n						\n				\n		\n				\n				\n					\n				\n				\n	\n	Wolf Gap Vineyard and Winery\n	\n	\n\n123 Stout Rd\n	\n		\n		Edinburg\,\n\n	VA\n\n	22824\n\n\n\n\n\n	+ Google Map \n\n\n	\n					\n						\n	 \n\n\n	\n	 \n\n\n\n	\n\n\n\n		\n	\n				\n				\n				\n		\n				\n				\n					\n	\n		\n\n	\n	Add to calendar	\n		\n	\n\n		\n			\n									\n	Google Calendar\n\n									\n	iCalendar\n\n									\n	Outlook 365\n\n									\n	Outlook Live\n\n							\n		\n\n		\n	\n\n				\n				\n				\n		\n				\n				\n					\n	\n		\n\n				Meisha Herron at Evening Star Cafe	\n\n\n		\n	\n		Melanie Pearl at Briede Family Vineyards
URL:https://virginiaisformusiclovers.live/events/first-friday-with-adeline-csontos-wolf-gap-vineyard-winery/
LOCATION:Wolf Gap Vineyard and Winery\, 123 Stout Rd\, Edinburg\, VA\, 22824
CATEGORIES:Venue Performances
END:VEVENT
END:VCALENDAR