BEGIN:VCALENDAR
VERSION:2.0
PRODID:-//virginiaisformusiclovers.live - ECPv6.15.20//NONSGML v1.0//EN
CALSCALE:GREGORIAN
METHOD:PUBLISH
X-WR-CALNAME:virginiaisformusiclovers.live
X-ORIGINAL-URL:https://virginiaisformusiclovers.live
X-WR-CALDESC:Events for virginiaisformusiclovers.live
REFRESH-INTERVAL;VALUE=DURATION:PT1H
X-Robots-Tag:noindex
X-PUBLISHED-TTL:PT1H
BEGIN:VTIMEZONE
TZID:UTC
BEGIN:STANDARD
TZOFFSETFROM:+0000
TZOFFSETTO:+0000
TZNAME:UTC
DTSTART:20250101T000000
END:STANDARD
END:VTIMEZONE
BEGIN:VEVENT
DTSTART;TZID=UTC:20260102T180000
DTEND;TZID=UTC:20260102T210000
DTSTAMP:20260420T233300
CREATED:20251215T175124Z
LAST-MODIFIED:20251215T175344Z
UID:14653-1767376800-1767387600@virginiaisformusiclovers.live
SUMMARY:First Friday with Cole Larravide - Wolf Gap Vineyard & Winery
DESCRIPTION:« All Performances\n 				\n				\n				\n				\n							\n						\n				\n				\n				\n					This performance has passed. \n				\n				\n				\n				\n					\n	First Friday with Cole Larravide – Wolf Gap Vineyard & Winery				\n				\n				\n				\n					\n		\n			January 2\n\n	\n\n	  at  \n\n\n6:00 pm\n\n		\n\n\n\n	\n	  -  \n\n9:00 pm\n\n\n\n	\n				\n				\n				\n				\n					\n	\n	Website:	\n	https://www.facebook.com/share/1A7N2JwLKi/\n\n				\n				\n				\n				\n							Voted into the top 3 of Washington City Paper’s Best Of D.C. for “Best Local Original Band\,” Cole brings entertainment and energy to his stage. Come check him out in person\, and learn more at his website!\nhttps://www.colelarravide.com/\n						\n				\n		\n				\n				\n					\n				\n				\n	\n	Wolf Gap Vineyard and Winery\n	\n	\n\n123 Stout Rd\n	\n		\n		Edinburg\,\n\n	VA\n\n	22824\n\n\n\n\n\n	+ Google Map \n\n\n	\n					\n						\n	 \n\n\n	\n	 \n\n\n\n	\n\n\n\n		\n	\n				\n				\n				\n		\n				\n				\n					\n	\n		\n\n	\n	Add to calendar	\n		\n	\n\n		\n			\n									\n	Google Calendar\n\n									\n	iCalendar\n\n									\n	Outlook 365\n\n									\n	Outlook Live\n\n							\n		\n\n		\n	\n\n				\n				\n				\n		\n				\n				\n					\n	\n		\n\n				Meisha Herron at Pale Fire Brewing	\n\n\n		\n	\n		Jacob Paul Allen at Durty Nelly's
URL:https://virginiaisformusiclovers.live/events/first-friday-with-cole-larravide/
LOCATION:Wolf Gap Vineyard and Winery\, 123 Stout Rd\, Edinburg\, VA\, 22824
CATEGORIES:Venue Performances
END:VEVENT
END:VCALENDAR