BEGIN:VCALENDAR
VERSION:2.0
PRODID:-//virginiaisformusiclovers.live - ECPv6.15.20//NONSGML v1.0//EN
CALSCALE:GREGORIAN
METHOD:PUBLISH
X-WR-CALNAME:virginiaisformusiclovers.live
X-ORIGINAL-URL:https://virginiaisformusiclovers.live
X-WR-CALDESC:Events for virginiaisformusiclovers.live
REFRESH-INTERVAL;VALUE=DURATION:PT1H
X-Robots-Tag:noindex
X-PUBLISHED-TTL:PT1H
BEGIN:VTIMEZONE
TZID:UTC
BEGIN:STANDARD
TZOFFSETFROM:+0000
TZOFFSETTO:+0000
TZNAME:UTC
DTSTART:20250101T000000
END:STANDARD
END:VTIMEZONE
BEGIN:VEVENT
DTSTART;TZID=UTC:20260219T190000
DTEND;TZID=UTC:20260219T190000
DTSTAMP:20260419T174018
CREATED:20260102T202721Z
LAST-MODIFIED:20260102T202728Z
UID:15055-1771527600-1771527600@virginiaisformusiclovers.live
SUMMARY:Troy Breslow at The Bistro at Victorian Station
DESCRIPTION:« All Performances\n 				\n				\n				\n				\n							\n						\n				\n				\n				\n					This performance has passed. \n				\n				\n				\n				\n					\n	Troy Breslow at The Bistro at Victorian Station				\n				\n				\n				\n					\n		\n			February 19\n\n	\n\n	  at  \n\n\n7:00 pm\n\n			\n				\n				\n				\n				\n					\n	\n	Website:	\n	https://www.troybreslow.com/tour\n\n				\n				\n				\n				\n					\n	\n				\n				\n				\n				\n							Troy Breslow is a Country Music Artist from Hampton Roads\, Virginia. Breslow’s music depicts a young man forging a name for himself in Country Music while maintaining his Jewish Identity. In 2018\, he was recognized Country Artist of The Year by the Veer Music Awards.\n						\n				\n		\n				\n				\n					\n				\n				\n	\n	The Bistro at Victorian Station\n	\n	\n\n36 N Mallory St\n	\n		\n		Hampton\,\n\n	VA\n\n	23663\n\n\n\n\n\n	+ Google Map \n\n\n	\n					\n						\n	 \n\n\n	\n	 \n\n\n\n	\n\n\n\n		\n	\n				\n				\n				\n		\n				\n				\n					\n	\n		\n\n	\n	Add to calendar	\n		\n	\n\n		\n			\n									\n	Google Calendar\n\n									\n	iCalendar\n\n									\n	Outlook 365\n\n									\n	Outlook Live\n\n							\n		\n\n		\n	\n\n				\n				\n				\n		\n				\n				\n					\n	\n		\n\n				Troy Breslow at Moose Lodge	\n\n\n		\n	\n		Meisha Herron at Eastwood Farm and Winery
URL:https://virginiaisformusiclovers.live/events/troy-breslow-at-the-bistro-at-victorian-station/
LOCATION:The Bistro at Victorian Station\, 36 N Mallory St\, Hampton\, VA\, 23663
ATTACH;FMTTYPE=image/jpeg:https://virginiaisformusiclovers.live/wp-content/uploads/2025/08/troyprofile2.jpg
END:VEVENT
END:VCALENDAR