BEGIN:VCALENDAR
VERSION:2.0
PRODID:-//virginiaisformusiclovers.live - ECPv6.15.20//NONSGML v1.0//EN
CALSCALE:GREGORIAN
METHOD:PUBLISH
X-WR-CALNAME:virginiaisformusiclovers.live
X-ORIGINAL-URL:https://virginiaisformusiclovers.live
X-WR-CALDESC:Events for virginiaisformusiclovers.live
REFRESH-INTERVAL;VALUE=DURATION:PT1H
X-Robots-Tag:noindex
X-PUBLISHED-TTL:PT1H
BEGIN:VTIMEZONE
TZID:UTC
BEGIN:STANDARD
TZOFFSETFROM:+0000
TZOFFSETTO:+0000
TZNAME:UTC
DTSTART:20250101T000000
END:STANDARD
END:VTIMEZONE
BEGIN:VEVENT
DTSTART;TZID=UTC:20260425T090000
DTEND;TZID=UTC:20260425T090000
DTSTAMP:20260425T015619
CREATED:20260331T190921Z
LAST-MODIFIED:20260331T190952Z
UID:16324-1777107600-1777107600@virginiaisformusiclovers.live
SUMMARY:Joshua Luongo at Elkton Downtown Marketplace
DESCRIPTION:« All Performances\n 				\n				\n				\n				\n							\n						\n				\n				\n				\n					\n	Robbie Limon – Wolf Gap Vineyard & Winery				\n				\n				\n				\n					\n		\n			May 31\n\n		\n\n\n	\n				\n				\n				\n				\n					\n	\n	Website:	\n	https://www.facebook.com/share/1CXVJtiHXX/\n\n				\n				\n				\n				\n							« All Performances Robbie Limon – Wolf Gap Vineyard & Winery May 31 Website: https://www.facebook.com/share/1CXVJtiHXX/ Wolf Gap Vineyard and Winery 123 Stout Rd Edinburg\, VA 22824 + Google Map Add […]\n						\n				\n		\n				\n				\n					\n				\n				\n	\n	Wolf Gap Vineyard and Winery\n	\n	\n\n123 Stout Rd\n	\n		\n		Edinburg\,\n\n	VA\n\n	22824\n\n\n\n\n\n	+ Google Map \n\n\n	\n					\n						\n	 \n\n\n	\n	 \n\n\n\n	\n\n\n\n		\n	\n				\n				\n				\n		\n				\n				\n					\n	\n		\n\n	\n	Add to calendar	\n		\n	\n\n		\n			\n									\n	Google Calendar\n\n									\n	iCalendar\n\n									\n	Outlook 365\n\n									\n	Outlook Live\n\n							\n		\n\n		\n	\n\n				\n				\n				\n		\n				\n				\n					\n	\n		\n\n				Troy Breslow at Baron's Pub & Restaurant	\n\n\n		\n	\n		Troy Breslow at Smoke
URL:https://virginiaisformusiclovers.live/events/joshua-luongo-at-elkton-downtown-marketplace-2/
LOCATION:Elkton Downtown Marketplace\, 158 W Spotswood Ave\, Elkton\, VA\, 22827
ATTACH;FMTTYPE=image/jpeg:https://virginiaisformusiclovers.live/wp-content/uploads/2025/02/joshualuongo-1.jpg
END:VEVENT
BEGIN:VEVENT
DTSTART;TZID=UTC:20260425T140000
DTEND;TZID=UTC:20260425T140000
DTSTAMP:20260425T015619
CREATED:20251124T193130Z
LAST-MODIFIED:20251124T193137Z
UID:14383-1777125600-1777125600@virginiaisformusiclovers.live
SUMMARY:Melanie Pearl at Star in the Valley Winery
DESCRIPTION:« All Performances\n 				\n				\n				\n				\n							\n						\n				\n				\n				\n					\n	Robbie Limon – Wolf Gap Vineyard & Winery				\n				\n				\n				\n					\n		\n			May 31\n\n		\n\n\n	\n				\n				\n				\n				\n					\n	\n	Website:	\n	https://www.facebook.com/share/1CXVJtiHXX/\n\n				\n				\n				\n				\n							« All Performances Robbie Limon – Wolf Gap Vineyard & Winery May 31 Website: https://www.facebook.com/share/1CXVJtiHXX/ Wolf Gap Vineyard and Winery 123 Stout Rd Edinburg\, VA 22824 + Google Map Add […]\n						\n				\n		\n				\n				\n					\n				\n				\n	\n	Wolf Gap Vineyard and Winery\n	\n	\n\n123 Stout Rd\n	\n		\n		Edinburg\,\n\n	VA\n\n	22824\n\n\n\n\n\n	+ Google Map \n\n\n	\n					\n						\n	 \n\n\n	\n	 \n\n\n\n	\n\n\n\n		\n	\n				\n				\n				\n		\n				\n				\n					\n	\n		\n\n	\n	Add to calendar	\n		\n	\n\n		\n			\n									\n	Google Calendar\n\n									\n	iCalendar\n\n									\n	Outlook 365\n\n									\n	Outlook Live\n\n							\n		\n\n		\n	\n\n				\n				\n				\n		\n				\n				\n					\n	\n		\n\n				Troy Breslow at Baron's Pub & Restaurant	\n\n\n		\n	\n		Troy Breslow at Smoke
URL:https://virginiaisformusiclovers.live/events/melanie-pearl-at-star-in-the-valley-winery-3/
LOCATION:Star in the Valley Winery\, 33 Amos Ln\, Strasburg\, VA\, 22657
ATTACH;FMTTYPE=image/jpeg:https://virginiaisformusiclovers.live/wp-content/uploads/2024/02/melaniepearl-1.jpg
END:VEVENT
BEGIN:VEVENT
DTSTART;TZID=UTC:20260425T140000
DTEND;TZID=UTC:20260425T170000
DTSTAMP:20260425T015619
CREATED:20260331T203127Z
LAST-MODIFIED:20260331T203209Z
UID:16372-1777125600-1777136400@virginiaisformusiclovers.live
SUMMARY:Live Music with Randy Black & Shawn Cody - Wolf Gap Vineyard & Winery
DESCRIPTION:« All Performances\n 				\n				\n				\n				\n							\n						\n				\n				\n				\n					\n	Robbie Limon – Wolf Gap Vineyard & Winery				\n				\n				\n				\n					\n		\n			May 31\n\n		\n\n\n	\n				\n				\n				\n				\n					\n	\n	Website:	\n	https://www.facebook.com/share/1CXVJtiHXX/\n\n				\n				\n				\n				\n							« All Performances Robbie Limon – Wolf Gap Vineyard & Winery May 31 Website: https://www.facebook.com/share/1CXVJtiHXX/ Wolf Gap Vineyard and Winery 123 Stout Rd Edinburg\, VA 22824 + Google Map Add […]\n						\n				\n		\n				\n				\n					\n				\n				\n	\n	Wolf Gap Vineyard and Winery\n	\n	\n\n123 Stout Rd\n	\n		\n		Edinburg\,\n\n	VA\n\n	22824\n\n\n\n\n\n	+ Google Map \n\n\n	\n					\n						\n	 \n\n\n	\n	 \n\n\n\n	\n\n\n\n		\n	\n				\n				\n				\n		\n				\n				\n					\n	\n		\n\n	\n	Add to calendar	\n		\n	\n\n		\n			\n									\n	Google Calendar\n\n									\n	iCalendar\n\n									\n	Outlook 365\n\n									\n	Outlook Live\n\n							\n		\n\n		\n	\n\n				\n				\n				\n		\n				\n				\n					\n	\n		\n\n				Troy Breslow at Baron's Pub & Restaurant	\n\n\n		\n	\n		Troy Breslow at Smoke
URL:https://virginiaisformusiclovers.live/events/live-music-with-randy-black-shawn-cody/
LOCATION:Wolf Gap Vineyard and Winery\, 123 Stout Rd\, Edinburg\, VA\, 22824
CATEGORIES:Venue Performances
END:VEVENT
BEGIN:VEVENT
DTSTART;TZID=UTC:20260425T170000
DTEND;TZID=UTC:20260425T200000
DTSTAMP:20260425T015619
CREATED:20260107T180038Z
LAST-MODIFIED:20260107T180045Z
UID:15609-1777136400-1777147200@virginiaisformusiclovers.live
SUMMARY:Whiskey Acolyte at Devils Backbone Brewing Co.
DESCRIPTION:« All Performances\n 				\n				\n				\n				\n							\n						\n				\n				\n				\n					\n	Robbie Limon – Wolf Gap Vineyard & Winery				\n				\n				\n				\n					\n		\n			May 31\n\n		\n\n\n	\n				\n				\n				\n				\n					\n	\n	Website:	\n	https://www.facebook.com/share/1CXVJtiHXX/\n\n				\n				\n				\n				\n							« All Performances Robbie Limon – Wolf Gap Vineyard & Winery May 31 Website: https://www.facebook.com/share/1CXVJtiHXX/ Wolf Gap Vineyard and Winery 123 Stout Rd Edinburg\, VA 22824 + Google Map Add […]\n						\n				\n		\n				\n				\n					\n				\n				\n	\n	Wolf Gap Vineyard and Winery\n	\n	\n\n123 Stout Rd\n	\n		\n		Edinburg\,\n\n	VA\n\n	22824\n\n\n\n\n\n	+ Google Map \n\n\n	\n					\n						\n	 \n\n\n	\n	 \n\n\n\n	\n\n\n\n		\n	\n				\n				\n				\n		\n				\n				\n					\n	\n		\n\n	\n	Add to calendar	\n		\n	\n\n		\n			\n									\n	Google Calendar\n\n									\n	iCalendar\n\n									\n	Outlook 365\n\n									\n	Outlook Live\n\n							\n		\n\n		\n	\n\n				\n				\n				\n		\n				\n				\n					\n	\n		\n\n				Troy Breslow at Baron's Pub & Restaurant	\n\n\n		\n	\n		Troy Breslow at Smoke
URL:https://virginiaisformusiclovers.live/events/whiskey-acolyte-at-devils-backbone-brewing-co/
LOCATION:Devils Backbone Brewing Co. (Roseland)\, 200 Mosbys Run\, Roseland\, VA\, 22967
ATTACH;FMTTYPE=image/jpeg:https://virginiaisformusiclovers.live/wp-content/uploads/2025/11/Whiskey-Acolyte-bfb97ef2d527c2b31dcbf4aa71198a34-1.jpg
END:VEVENT
BEGIN:VEVENT
DTSTART;TZID=UTC:20260425T210000
DTEND;TZID=UTC:20260425T210000
DTSTAMP:20260425T015619
CREATED:20260102T211303Z
LAST-MODIFIED:20260102T211320Z
UID:15141-1777150800-1777150800@virginiaisformusiclovers.live
SUMMARY:Troy Breslow at Baron's Pub & Restaurant
DESCRIPTION:« All Performances\n 				\n				\n				\n				\n							\n						\n				\n				\n				\n					\n	Robbie Limon – Wolf Gap Vineyard & Winery				\n				\n				\n				\n					\n		\n			May 31\n\n		\n\n\n	\n				\n				\n				\n				\n					\n	\n	Website:	\n	https://www.facebook.com/share/1CXVJtiHXX/\n\n				\n				\n				\n				\n							« All Performances Robbie Limon – Wolf Gap Vineyard & Winery May 31 Website: https://www.facebook.com/share/1CXVJtiHXX/ Wolf Gap Vineyard and Winery 123 Stout Rd Edinburg\, VA 22824 + Google Map Add […]\n						\n				\n		\n				\n				\n					\n				\n				\n	\n	Wolf Gap Vineyard and Winery\n	\n	\n\n123 Stout Rd\n	\n		\n		Edinburg\,\n\n	VA\n\n	22824\n\n\n\n\n\n	+ Google Map \n\n\n	\n					\n						\n	 \n\n\n	\n	 \n\n\n\n	\n\n\n\n		\n	\n				\n				\n				\n		\n				\n				\n					\n	\n		\n\n	\n	Add to calendar	\n		\n	\n\n		\n			\n									\n	Google Calendar\n\n									\n	iCalendar\n\n									\n	Outlook 365\n\n									\n	Outlook Live\n\n							\n		\n\n		\n	\n\n				\n				\n				\n		\n				\n				\n					\n	\n		\n\n				Troy Breslow at Baron's Pub & Restaurant	\n\n\n		\n	\n		Troy Breslow at Smoke
URL:https://virginiaisformusiclovers.live/events/troy-breslow-at-barons-pub-restaurant-3/
LOCATION:Baron’s Pub & Restaurant\, 500 High St\, Portsmouth\, VA\, 23704
ATTACH;FMTTYPE=image/jpeg:https://virginiaisformusiclovers.live/wp-content/uploads/2025/08/troyprofile2.jpg
END:VEVENT
END:VCALENDAR