BEGIN:VCALENDAR
VERSION:2.0
PRODID:-//virginiaisformusiclovers.live - ECPv6.15.20//NONSGML v1.0//EN
CALSCALE:GREGORIAN
METHOD:PUBLISH
X-WR-CALNAME:virginiaisformusiclovers.live
X-ORIGINAL-URL:https://virginiaisformusiclovers.live
X-WR-CALDESC:Events for virginiaisformusiclovers.live
REFRESH-INTERVAL;VALUE=DURATION:PT1H
X-Robots-Tag:noindex
X-PUBLISHED-TTL:PT1H
BEGIN:VTIMEZONE
TZID:UTC
BEGIN:STANDARD
TZOFFSETFROM:+0000
TZOFFSETTO:+0000
TZNAME:UTC
DTSTART:20250101T000000
END:STANDARD
END:VTIMEZONE
BEGIN:VEVENT
DTSTART;VALUE=DATE:20260717
DTEND;VALUE=DATE:20260718
DTSTAMP:20260421T165516
CREATED:20260204T231854Z
LAST-MODIFIED:20260204T231902Z
UID:16036-1784246400-1784332799@virginiaisformusiclovers.live
SUMMARY:The Shenandoah Valley Music Festival
DESCRIPTION:« All Performances\n 				\n				\n				\n				\n							\n						\n				\n				\n				\n					\n	Robbie Limon – Wolf Gap Vineyard & Winery				\n				\n				\n				\n					\n		\n			May 31\n\n		\n\n\n	\n				\n				\n				\n				\n					\n	\n	Website:	\n	https://www.facebook.com/share/1CXVJtiHXX/\n\n				\n				\n				\n				\n							« All Performances Robbie Limon – Wolf Gap Vineyard & Winery May 31 Website: https://www.facebook.com/share/1CXVJtiHXX/ Wolf Gap Vineyard and Winery 123 Stout Rd Edinburg\, VA 22824 + Google Map Add […]\n						\n				\n		\n				\n				\n					\n				\n				\n	\n	Wolf Gap Vineyard and Winery\n	\n	\n\n123 Stout Rd\n	\n		\n		Edinburg\,\n\n	VA\n\n	22824\n\n\n\n\n\n	+ Google Map \n\n\n	\n					\n						\n	 \n\n\n	\n	 \n\n\n\n	\n\n\n\n		\n	\n				\n				\n				\n		\n				\n				\n					\n	\n		\n\n	\n	Add to calendar	\n		\n	\n\n		\n			\n									\n	Google Calendar\n\n									\n	iCalendar\n\n									\n	Outlook 365\n\n									\n	Outlook Live\n\n							\n		\n\n		\n	\n\n				\n				\n				\n		\n				\n				\n					\n	\n		\n\n				Troy Breslow at Baron's Pub & Restaurant	\n\n\n		\n	\n		Troy Breslow at Smoke
URL:https://virginiaisformusiclovers.live/events/the-shenandoah-valley-music-festival/
LOCATION:Shrine Mont\, 217 Shrine Mont Circle\, Orkney Springs\, VA\, 22845\, United States
CATEGORIES:SVMF
ATTACH;FMTTYPE=image/png:https://virginiaisformusiclovers.live/wp-content/uploads/2023/07/BuffetBirdProfile.png
END:VEVENT
BEGIN:VEVENT
DTSTART;TZID=UTC:20260717T170000
DTEND;TZID=UTC:20260717T170000
DTSTAMP:20260421T165516
CREATED:20251124T202045Z
LAST-MODIFIED:20251124T202110Z
UID:14472-1784307600-1784307600@virginiaisformusiclovers.live
SUMMARY:Melanie Pearl at Chilly Hollow
DESCRIPTION:« All Performances\n 				\n				\n				\n				\n							\n						\n				\n				\n				\n					\n	Robbie Limon – Wolf Gap Vineyard & Winery				\n				\n				\n				\n					\n		\n			May 31\n\n		\n\n\n	\n				\n				\n				\n				\n					\n	\n	Website:	\n	https://www.facebook.com/share/1CXVJtiHXX/\n\n				\n				\n				\n				\n							« All Performances Robbie Limon – Wolf Gap Vineyard & Winery May 31 Website: https://www.facebook.com/share/1CXVJtiHXX/ Wolf Gap Vineyard and Winery 123 Stout Rd Edinburg\, VA 22824 + Google Map Add […]\n						\n				\n		\n				\n				\n					\n				\n				\n	\n	Wolf Gap Vineyard and Winery\n	\n	\n\n123 Stout Rd\n	\n		\n		Edinburg\,\n\n	VA\n\n	22824\n\n\n\n\n\n	+ Google Map \n\n\n	\n					\n						\n	 \n\n\n	\n	 \n\n\n\n	\n\n\n\n		\n	\n				\n				\n				\n		\n				\n				\n					\n	\n		\n\n	\n	Add to calendar	\n		\n	\n\n		\n			\n									\n	Google Calendar\n\n									\n	iCalendar\n\n									\n	Outlook 365\n\n									\n	Outlook Live\n\n							\n		\n\n		\n	\n\n				\n				\n				\n		\n				\n				\n					\n	\n		\n\n				Troy Breslow at Baron's Pub & Restaurant	\n\n\n		\n	\n		Troy Breslow at Smoke
URL:https://virginiaisformusiclovers.live/events/melanie-pearl-at-chilly-hollow-3/
LOCATION:Chilly Hollow Brewing\, 669 Chilly Hollow Rd\, Berryville\, VA\, 22611
ATTACH;FMTTYPE=image/jpeg:https://virginiaisformusiclovers.live/wp-content/uploads/2024/02/melaniepearl-1.jpg
END:VEVENT
END:VCALENDAR