BEGIN:VCALENDAR
VERSION:2.0
PRODID:-//virginiaisformusiclovers.live - ECPv6.15.20//NONSGML v1.0//EN
CALSCALE:GREGORIAN
METHOD:PUBLISH
X-WR-CALNAME:virginiaisformusiclovers.live
X-ORIGINAL-URL:https://virginiaisformusiclovers.live
X-WR-CALDESC:Events for virginiaisformusiclovers.live
REFRESH-INTERVAL;VALUE=DURATION:PT1H
X-Robots-Tag:noindex
X-PUBLISHED-TTL:PT1H
BEGIN:VTIMEZONE
TZID:UTC
BEGIN:STANDARD
TZOFFSETFROM:+0000
TZOFFSETTO:+0000
TZNAME:UTC
DTSTART:20250101T000000
END:STANDARD
END:VTIMEZONE
BEGIN:VEVENT
DTSTART;TZID=UTC:20261008T163000
DTEND;TZID=UTC:20261008T163000
DTSTAMP:20260421T221353
CREATED:20260107T162751Z
LAST-MODIFIED:20260107T162759Z
UID:15333-1791477000-1791477000@virginiaisformusiclovers.live
SUMMARY:Troy Breslow at Death Ridge Brewery
DESCRIPTION:« All Performances\n 				\n				\n				\n				\n							\n						\n				\n				\n				\n					\n	Robbie Limon – Wolf Gap Vineyard & Winery				\n				\n				\n				\n					\n		\n			May 31\n\n		\n\n\n	\n				\n				\n				\n				\n					\n	\n	Website:	\n	https://www.facebook.com/share/1CXVJtiHXX/\n\n				\n				\n				\n				\n							« All Performances Robbie Limon – Wolf Gap Vineyard & Winery May 31 Website: https://www.facebook.com/share/1CXVJtiHXX/ Wolf Gap Vineyard and Winery 123 Stout Rd Edinburg\, VA 22824 + Google Map Add […]\n						\n				\n		\n				\n				\n					\n				\n				\n	\n	Wolf Gap Vineyard and Winery\n	\n	\n\n123 Stout Rd\n	\n		\n		Edinburg\,\n\n	VA\n\n	22824\n\n\n\n\n\n	+ Google Map \n\n\n	\n					\n						\n	 \n\n\n	\n	 \n\n\n\n	\n\n\n\n		\n	\n				\n				\n				\n		\n				\n				\n					\n	\n		\n\n	\n	Add to calendar	\n		\n	\n\n		\n			\n									\n	Google Calendar\n\n									\n	iCalendar\n\n									\n	Outlook 365\n\n									\n	Outlook Live\n\n							\n		\n\n		\n	\n\n				\n				\n				\n		\n				\n				\n					\n	\n		\n\n				Troy Breslow at Baron's Pub & Restaurant	\n\n\n		\n	\n		Troy Breslow at Smoke
URL:https://virginiaisformusiclovers.live/events/troy-breslow-at-death-ridge-brewery-3/
LOCATION:Death Ridge Brewery\, 5255 Higher Ground Trl\, Jeffersonton\, VA\, 22724
ATTACH;FMTTYPE=image/jpeg:https://virginiaisformusiclovers.live/wp-content/uploads/2025/08/troyprofile2.jpg
END:VEVENT
END:VCALENDAR