BEGIN:VCALENDAR
VERSION:2.0
PRODID:-//virginiaisformusiclovers.live - ECPv6.15.20//NONSGML v1.0//EN
CALSCALE:GREGORIAN
METHOD:PUBLISH
X-ORIGINAL-URL:https://virginiaisformusiclovers.live
X-WR-CALDESC:Events for virginiaisformusiclovers.live
REFRESH-INTERVAL;VALUE=DURATION:PT1H
X-Robots-Tag:noindex
X-PUBLISHED-TTL:PT1H
BEGIN:VTIMEZONE
TZID:UTC
BEGIN:STANDARD
TZOFFSETFROM:+0000
TZOFFSETTO:+0000
TZNAME:UTC
DTSTART:20240101T000000
END:STANDARD
END:VTIMEZONE
BEGIN:VEVENT
DTSTART;TZID=UTC:20251205T180000
DTEND;TZID=UTC:20251205T210000
DTSTAMP:20260421T171840
CREATED:20251120T175223Z
LAST-MODIFIED:20251120T175508Z
UID:14200-1764957600-1764968400@virginiaisformusiclovers.live
SUMMARY:First Friday with Matt Palmieri - Wolf Gap Vineyard
DESCRIPTION:« All Performances\n 				\n				\n				\n				\n							\n						\n				\n				\n				\n					\n	Robbie Limon – Wolf Gap Vineyard & Winery				\n				\n				\n				\n					\n		\n			May 31\n\n		\n\n\n	\n				\n				\n				\n				\n					\n	\n	Website:	\n	https://www.facebook.com/share/1CXVJtiHXX/\n\n				\n				\n				\n				\n							« All Performances Robbie Limon – Wolf Gap Vineyard & Winery May 31 Website: https://www.facebook.com/share/1CXVJtiHXX/ Wolf Gap Vineyard and Winery […]\n						\n				\n		\n				\n				\n					\n				\n				\n	\n	Wolf Gap Vineyard and Winery\n	\n	\n\n123 Stout Rd\n	\n		\n		Edinburg\,\n\n	VA\n\n	22824\n\n\n\n\n\n	+ Google Map \n\n\n	\n					\n						\n	 \n\n\n	\n	 \n\n\n\n	\n\n\n\n		\n	\n				\n				\n				\n		\n				\n				\n					\n	\n		\n\n	\n	Add to calendar	\n		\n	\n\n		\n			\n									\n	Google Calendar\n\n									\n	iCalendar\n\n									\n	Outlook 365\n\n									\n	Outlook Live\n\n							\n		\n\n		\n	\n\n				\n				\n				\n		\n				\n				\n					\n	\n		\n\n				Troy Breslow at Baron's Pub & Restaurant	\n\n\n		\n	\n		Troy Breslow at Smoke
URL:https://virginiaisformusiclovers.live/events/first-friday-with-matt-palmieri-wolf-gap-vineyard/
LOCATION:Wolf Gap Vineyard and Winery\, 123 Stout Rd\, Edinburg\, VA\, 22824
CATEGORIES:Venue Performances
END:VEVENT
BEGIN:VEVENT
DTSTART;TZID=UTC:20251206T140000
DTEND;TZID=UTC:20251206T170000
DTSTAMP:20260421T171840
CREATED:20251120T175824Z
LAST-MODIFIED:20251120T175833Z
UID:14207-1765029600-1765040400@virginiaisformusiclovers.live
SUMMARY:Robbie Limon - Wolf Gap Vineyard
DESCRIPTION:« All Performances\n 				\n				\n				\n				\n							\n						\n				\n				\n				\n					\n	Robbie Limon – Wolf Gap Vineyard & Winery				\n				\n				\n				\n					\n		\n			May 31\n\n		\n\n\n	\n				\n				\n				\n				\n					\n	\n	Website:	\n	https://www.facebook.com/share/1CXVJtiHXX/\n\n				\n				\n				\n				\n							« All Performances Robbie Limon – Wolf Gap Vineyard & Winery May 31 Website: https://www.facebook.com/share/1CXVJtiHXX/ Wolf Gap Vineyard and Winery […]\n						\n				\n		\n				\n				\n					\n				\n				\n	\n	Wolf Gap Vineyard and Winery\n	\n	\n\n123 Stout Rd\n	\n		\n		Edinburg\,\n\n	VA\n\n	22824\n\n\n\n\n\n	+ Google Map \n\n\n	\n					\n						\n	 \n\n\n	\n	 \n\n\n\n	\n\n\n\n		\n	\n				\n				\n				\n		\n				\n				\n					\n	\n		\n\n	\n	Add to calendar	\n		\n	\n\n		\n			\n									\n	Google Calendar\n\n									\n	iCalendar\n\n									\n	Outlook 365\n\n									\n	Outlook Live\n\n							\n		\n\n		\n	\n\n				\n				\n				\n		\n				\n				\n					\n	\n		\n\n				Troy Breslow at Baron's Pub & Restaurant	\n\n\n		\n	\n		Troy Breslow at Smoke
URL:https://virginiaisformusiclovers.live/events/robbie-limon-wolf-gap-vineyard-2/
LOCATION:Wolf Gap Vineyard and Winery\, 123 Stout Rd\, Edinburg\, VA\, 22824
CATEGORIES:Venue Performances
END:VEVENT
BEGIN:VEVENT
DTSTART;TZID=UTC:20251207T140000
DTEND;TZID=UTC:20251207T170000
DTSTAMP:20260421T171840
CREATED:20251120T180213Z
LAST-MODIFIED:20251120T180229Z
UID:14215-1765116000-1765126800@virginiaisformusiclovers.live
SUMMARY:Taylor LaFever - Wolf Gap Vineyard
DESCRIPTION:« All Performances\n 				\n				\n				\n				\n							\n						\n				\n				\n				\n					\n	Robbie Limon – Wolf Gap Vineyard & Winery				\n				\n				\n				\n					\n		\n			May 31\n\n		\n\n\n	\n				\n				\n				\n				\n					\n	\n	Website:	\n	https://www.facebook.com/share/1CXVJtiHXX/\n\n				\n				\n				\n				\n							« All Performances Robbie Limon – Wolf Gap Vineyard & Winery May 31 Website: https://www.facebook.com/share/1CXVJtiHXX/ Wolf Gap Vineyard and Winery […]\n						\n				\n		\n				\n				\n					\n				\n				\n	\n	Wolf Gap Vineyard and Winery\n	\n	\n\n123 Stout Rd\n	\n		\n		Edinburg\,\n\n	VA\n\n	22824\n\n\n\n\n\n	+ Google Map \n\n\n	\n					\n						\n	 \n\n\n	\n	 \n\n\n\n	\n\n\n\n		\n	\n				\n				\n				\n		\n				\n				\n					\n	\n		\n\n	\n	Add to calendar	\n		\n	\n\n		\n			\n									\n	Google Calendar\n\n									\n	iCalendar\n\n									\n	Outlook 365\n\n									\n	Outlook Live\n\n							\n		\n\n		\n	\n\n				\n				\n				\n		\n				\n				\n					\n	\n		\n\n				Troy Breslow at Baron's Pub & Restaurant	\n\n\n		\n	\n		Troy Breslow at Smoke
URL:https://virginiaisformusiclovers.live/events/taylor-lafever-wolf-gap-vineyard/
LOCATION:Wolf Gap Vineyard and Winery\, 123 Stout Rd\, Edinburg\, VA\, 22824
CATEGORIES:Venue Performances
END:VEVENT
BEGIN:VEVENT
DTSTART;TZID=UTC:20251213T140000
DTEND;TZID=UTC:20251213T170000
DTSTAMP:20260421T171840
CREATED:20251120T180458Z
LAST-MODIFIED:20251120T180507Z
UID:14220-1765634400-1765645200@virginiaisformusiclovers.live
SUMMARY:Logan Moore - Wolf Gap Vineyard
DESCRIPTION:« All Performances\n 				\n				\n				\n				\n							\n						\n				\n				\n				\n					\n	Robbie Limon – Wolf Gap Vineyard & Winery				\n				\n				\n				\n					\n		\n			May 31\n\n		\n\n\n	\n				\n				\n				\n				\n					\n	\n	Website:	\n	https://www.facebook.com/share/1CXVJtiHXX/\n\n				\n				\n				\n				\n							« All Performances Robbie Limon – Wolf Gap Vineyard & Winery May 31 Website: https://www.facebook.com/share/1CXVJtiHXX/ Wolf Gap Vineyard and Winery […]\n						\n				\n		\n				\n				\n					\n				\n				\n	\n	Wolf Gap Vineyard and Winery\n	\n	\n\n123 Stout Rd\n	\n		\n		Edinburg\,\n\n	VA\n\n	22824\n\n\n\n\n\n	+ Google Map \n\n\n	\n					\n						\n	 \n\n\n	\n	 \n\n\n\n	\n\n\n\n		\n	\n				\n				\n				\n		\n				\n				\n					\n	\n		\n\n	\n	Add to calendar	\n		\n	\n\n		\n			\n									\n	Google Calendar\n\n									\n	iCalendar\n\n									\n	Outlook 365\n\n									\n	Outlook Live\n\n							\n		\n\n		\n	\n\n				\n				\n				\n		\n				\n				\n					\n	\n		\n\n				Troy Breslow at Baron's Pub & Restaurant	\n\n\n		\n	\n		Troy Breslow at Smoke
URL:https://virginiaisformusiclovers.live/events/logan-moore-wolf-gap-vineyard/
LOCATION:Wolf Gap Vineyard and Winery\, 123 Stout Rd\, Edinburg\, VA\, 22824
CATEGORIES:Venue Performances
END:VEVENT
BEGIN:VEVENT
DTSTART;TZID=UTC:20251214T140000
DTEND;TZID=UTC:20251214T170000
DTSTAMP:20260421T171840
CREATED:20251120T180717Z
LAST-MODIFIED:20251120T180817Z
UID:14225-1765720800-1765731600@virginiaisformusiclovers.live
SUMMARY:Jimmy Lee - Wolf Gap Vineyard
DESCRIPTION:« All Performances\n 				\n				\n				\n				\n							\n						\n				\n				\n				\n					\n	Robbie Limon – Wolf Gap Vineyard & Winery				\n				\n				\n				\n					\n		\n			May 31\n\n		\n\n\n	\n				\n				\n				\n				\n					\n	\n	Website:	\n	https://www.facebook.com/share/1CXVJtiHXX/\n\n				\n				\n				\n				\n							« All Performances Robbie Limon – Wolf Gap Vineyard & Winery May 31 Website: https://www.facebook.com/share/1CXVJtiHXX/ Wolf Gap Vineyard and Winery […]\n						\n				\n		\n				\n				\n					\n				\n				\n	\n	Wolf Gap Vineyard and Winery\n	\n	\n\n123 Stout Rd\n	\n		\n		Edinburg\,\n\n	VA\n\n	22824\n\n\n\n\n\n	+ Google Map \n\n\n	\n					\n						\n	 \n\n\n	\n	 \n\n\n\n	\n\n\n\n		\n	\n				\n				\n				\n		\n				\n				\n					\n	\n		\n\n	\n	Add to calendar	\n		\n	\n\n		\n			\n									\n	Google Calendar\n\n									\n	iCalendar\n\n									\n	Outlook 365\n\n									\n	Outlook Live\n\n							\n		\n\n		\n	\n\n				\n				\n				\n		\n				\n				\n					\n	\n		\n\n				Troy Breslow at Baron's Pub & Restaurant	\n\n\n		\n	\n		Troy Breslow at Smoke
URL:https://virginiaisformusiclovers.live/events/jimmy-lee-wolf-gap-vineyard-2/
LOCATION:Wolf Gap Vineyard and Winery\, 123 Stout Rd\, Edinburg\, VA\, 22824
CATEGORIES:Venue Performances
END:VEVENT
END:VCALENDAR