BEGIN:VCALENDAR
VERSION:2.0
PRODID:-//virginiaisformusiclovers.live - ECPv6.15.20//NONSGML v1.0//EN
CALSCALE:GREGORIAN
METHOD:PUBLISH
X-WR-CALNAME:virginiaisformusiclovers.live
X-ORIGINAL-URL:https://virginiaisformusiclovers.live
X-WR-CALDESC:Events for virginiaisformusiclovers.live
REFRESH-INTERVAL;VALUE=DURATION:PT1H
X-Robots-Tag:noindex
X-PUBLISHED-TTL:PT1H
BEGIN:VTIMEZONE
TZID:UTC
BEGIN:STANDARD
TZOFFSETFROM:+0000
TZOFFSETTO:+0000
TZNAME:UTC
DTSTART:20250101T000000
END:STANDARD
END:VTIMEZONE
BEGIN:VEVENT
DTSTART;TZID=UTC:20260425T140000
DTEND;TZID=UTC:20260425T170000
DTSTAMP:20260421T100348
CREATED:20260331T203127Z
LAST-MODIFIED:20260331T203209Z
UID:16372-1777125600-1777136400@virginiaisformusiclovers.live
SUMMARY:Live Music with Randy Black & Shawn Cody - Wolf Gap Vineyard & Winery
DESCRIPTION:« All Performances\n 				\n				\n				\n				\n							\n						\n				\n				\n				\n					\n	Robbie Limon – Wolf Gap Vineyard & Winery				\n				\n				\n				\n					\n		\n			May 31\n\n		\n\n\n	\n				\n				\n				\n				\n					\n	\n	Website:	\n	https://www.facebook.com/share/1CXVJtiHXX/\n\n				\n				\n				\n				\n							« All Performances Robbie Limon – Wolf Gap Vineyard & Winery May 31 Website: https://www.facebook.com/share/1CXVJtiHXX/ Wolf Gap Vineyard and Winery […]\n						\n				\n		\n				\n				\n					\n				\n				\n	\n	Wolf Gap Vineyard and Winery\n	\n	\n\n123 Stout Rd\n	\n		\n		Edinburg\,\n\n	VA\n\n	22824\n\n\n\n\n\n	+ Google Map \n\n\n	\n					\n						\n	 \n\n\n	\n	 \n\n\n\n	\n\n\n\n		\n	\n				\n				\n				\n		\n				\n				\n					\n	\n		\n\n	\n	Add to calendar	\n		\n	\n\n		\n			\n									\n	Google Calendar\n\n									\n	iCalendar\n\n									\n	Outlook 365\n\n									\n	Outlook Live\n\n							\n		\n\n		\n	\n\n				\n				\n				\n		\n				\n				\n					\n	\n		\n\n				Troy Breslow at Baron's Pub & Restaurant	\n\n\n		\n	\n		Troy Breslow at Smoke
URL:https://virginiaisformusiclovers.live/events/live-music-with-randy-black-shawn-cody/
LOCATION:Wolf Gap Vineyard and Winery\, 123 Stout Rd\, Edinburg\, VA\, 22824
CATEGORIES:Venue Performances
END:VEVENT
BEGIN:VEVENT
DTSTART;TZID=UTC:20260426T140000
DTEND;TZID=UTC:20260426T170000
DTSTAMP:20260421T100348
CREATED:20260331T203451Z
LAST-MODIFIED:20260331T203519Z
UID:16377-1777212000-1777222800@virginiaisformusiclovers.live
SUMMARY:Live Music with Robbie Limon - Wolf Gap Vineyard & Winery
DESCRIPTION:« All Performances\n 				\n				\n				\n				\n							\n						\n				\n				\n				\n					\n	Robbie Limon – Wolf Gap Vineyard & Winery				\n				\n				\n				\n					\n		\n			May 31\n\n		\n\n\n	\n				\n				\n				\n				\n					\n	\n	Website:	\n	https://www.facebook.com/share/1CXVJtiHXX/\n\n				\n				\n				\n				\n							« All Performances Robbie Limon – Wolf Gap Vineyard & Winery May 31 Website: https://www.facebook.com/share/1CXVJtiHXX/ Wolf Gap Vineyard and Winery […]\n						\n				\n		\n				\n				\n					\n				\n				\n	\n	Wolf Gap Vineyard and Winery\n	\n	\n\n123 Stout Rd\n	\n		\n		Edinburg\,\n\n	VA\n\n	22824\n\n\n\n\n\n	+ Google Map \n\n\n	\n					\n						\n	 \n\n\n	\n	 \n\n\n\n	\n\n\n\n		\n	\n				\n				\n				\n		\n				\n				\n					\n	\n		\n\n	\n	Add to calendar	\n		\n	\n\n		\n			\n									\n	Google Calendar\n\n									\n	iCalendar\n\n									\n	Outlook 365\n\n									\n	Outlook Live\n\n							\n		\n\n		\n	\n\n				\n				\n				\n		\n				\n				\n					\n	\n		\n\n				Troy Breslow at Baron's Pub & Restaurant	\n\n\n		\n	\n		Troy Breslow at Smoke
URL:https://virginiaisformusiclovers.live/events/live-music-with-robbie-limon-wolf-gap-vineyard-winery/
LOCATION:Wolf Gap Vineyard and Winery\, 123 Stout Rd\, Edinburg\, VA\, 22824
CATEGORIES:Venue Performances
END:VEVENT
END:VCALENDAR