BEGIN:VCALENDAR
VERSION:2.0
PRODID:-//virginiaisformusiclovers.live - ECPv6.15.20//NONSGML v1.0//EN
CALSCALE:GREGORIAN
METHOD:PUBLISH
X-WR-CALNAME:virginiaisformusiclovers.live
X-ORIGINAL-URL:https://virginiaisformusiclovers.live
X-WR-CALDESC:Events for virginiaisformusiclovers.live
REFRESH-INTERVAL;VALUE=DURATION:PT1H
X-Robots-Tag:noindex
X-PUBLISHED-TTL:PT1H
BEGIN:VTIMEZONE
TZID:UTC
BEGIN:STANDARD
TZOFFSETFROM:+0000
TZOFFSETTO:+0000
TZNAME:UTC
DTSTART:20250101T000000
END:STANDARD
END:VTIMEZONE
BEGIN:VEVENT
DTSTART;TZID=UTC:20261219T140000
DTEND;TZID=UTC:20261219T140000
DTSTAMP:20260421T192652
CREATED:20260107T175022Z
LAST-MODIFIED:20260107T175027Z
UID:15586-1797688800-1797688800@virginiaisformusiclovers.live
SUMMARY:Melanie Pearl Live at Cave Ridge Vineyards
DESCRIPTION:« All Performances\n 				\n				\n				\n				\n							\n						\n				\n				\n				\n					This performance has passed. \n				\n				\n				\n				\n					\n	Dave Goodrich at DuCard Vineyards				\n				\n				\n				\n					\n		\n			January 18\n\n	\n\n	  at  \n\n\n2:00 pm\n\n		\n\n\n\n	\n	  -  \n\n5:00 pm\n\n\n\n	\n				\n				\n				\n				\n					\n	\n	Website:	\n	https://www.davegoodrich.com/tourdates\n\n				\n				\n				\n				\n					\n	\n				\n				\n				\n				\n							Virginia based singer/songwriter/producer/educator Dave Goodrich performs extensively and has more than 15 commercial releases as a solo artist. His December 2\, 2023\, single release Calculating Bar Bee Doll is a tribute to empowered women influencers.\nA handful of the intelligently-crafted songs penned by Goodrich have woven their waves across six continents into more than 100 television shows—including shows hosted by Oprah Winfrey and Martha Stewart—and have been licensed by companies such as Red Bull Media House. His recordings have received radio airplay on commercial\, college\, and internet stations.\nDave has shared bills with other gifted artists such as Jewel\, Angie Aparo\, and Howie Day. He has also performed his songs on television and as part of The No Rules Show\, a theatrical talk show.\nA San Francisco State University music alumnus\, he hosts the podcasts 15 Minutes with Dave Goodrich and Ask Dave How to Music. Dave Goodrich maintains an active online teaching and producing schedule.\n						\n				\n		\n				\n				\n					\n				\n				\n	\n	DuCard Vineyards\n	\n	\n\n40 Gibson Hollow Ln\n	\n		\n		Etlan\,\n\n	VA\n\n	22719\n\n\n\n\n\n	+ Google Map \n\n\n	\n					\n						\n	 \n\n\n	\n	 \n\n\n\n	\n\n\n\n		\n	\n				\n				\n				\n		\n				\n				\n					\n	\n		\n\n	\n	Add to calendar	\n		\n	\n\n		\n			\n									\n	Google Calendar\n\n									\n	iCalendar\n\n									\n	Outlook 365\n\n									\n	Outlook Live\n\n							\n		\n\n		\n	\n\n				\n				\n				\n		\n				\n				\n					\n	\n		\n\n				Melanie Pearl Live at Piccadilly's	\n\n\n		\n	\n		Troy Breslow at Moose Lodge
URL:https://virginiaisformusiclovers.live/events/melanie-pearl-live-at-cave-ridge-vineyards-3/
LOCATION:Cave Ridge Vineyard\, 1476 CONICVILLE ROAD\, Mount Jackson\, VA\, 22842
ATTACH;FMTTYPE=image/jpeg:https://virginiaisformusiclovers.live/wp-content/uploads/2024/02/melaniepearl-1.jpg
END:VEVENT
BEGIN:VEVENT
DTSTART;TZID=UTC:20261220T130000
DTEND;TZID=UTC:20261220T130000
DTSTAMP:20260421T192652
CREATED:20260107T165045Z
LAST-MODIFIED:20260107T165051Z
UID:15401-1797771600-1797771600@virginiaisformusiclovers.live
SUMMARY:Troy Breslow at Saudé Creek Vineyards
DESCRIPTION:« All Performances\n 				\n				\n				\n				\n							\n						\n				\n				\n				\n					This performance has passed. \n				\n				\n				\n				\n					\n	Dave Goodrich at DuCard Vineyards				\n				\n				\n				\n					\n		\n			January 18\n\n	\n\n	  at  \n\n\n2:00 pm\n\n		\n\n\n\n	\n	  -  \n\n5:00 pm\n\n\n\n	\n				\n				\n				\n				\n					\n	\n	Website:	\n	https://www.davegoodrich.com/tourdates\n\n				\n				\n				\n				\n					\n	\n				\n				\n				\n				\n							Virginia based singer/songwriter/producer/educator Dave Goodrich performs extensively and has more than 15 commercial releases as a solo artist. His December 2\, 2023\, single release Calculating Bar Bee Doll is a tribute to empowered women influencers.\nA handful of the intelligently-crafted songs penned by Goodrich have woven their waves across six continents into more than 100 television shows—including shows hosted by Oprah Winfrey and Martha Stewart—and have been licensed by companies such as Red Bull Media House. His recordings have received radio airplay on commercial\, college\, and internet stations.\nDave has shared bills with other gifted artists such as Jewel\, Angie Aparo\, and Howie Day. He has also performed his songs on television and as part of The No Rules Show\, a theatrical talk show.\nA San Francisco State University music alumnus\, he hosts the podcasts 15 Minutes with Dave Goodrich and Ask Dave How to Music. Dave Goodrich maintains an active online teaching and producing schedule.\n						\n				\n		\n				\n				\n					\n				\n				\n	\n	DuCard Vineyards\n	\n	\n\n40 Gibson Hollow Ln\n	\n		\n		Etlan\,\n\n	VA\n\n	22719\n\n\n\n\n\n	+ Google Map \n\n\n	\n					\n						\n	 \n\n\n	\n	 \n\n\n\n	\n\n\n\n		\n	\n				\n				\n				\n		\n				\n				\n					\n	\n		\n\n	\n	Add to calendar	\n		\n	\n\n		\n			\n									\n	Google Calendar\n\n									\n	iCalendar\n\n									\n	Outlook 365\n\n									\n	Outlook Live\n\n							\n		\n\n		\n	\n\n				\n				\n				\n		\n				\n				\n					\n	\n		\n\n				Melanie Pearl Live at Piccadilly's	\n\n\n		\n	\n		Troy Breslow at Moose Lodge
URL:https://virginiaisformusiclovers.live/events/troy-breslow-at-saude-creek-vineyards-11/
LOCATION:Saudé Creek Vineyards\, 16230 Cooks Mill Rd\, Lanexa\, VA\, 23089
ATTACH;FMTTYPE=image/jpeg:https://virginiaisformusiclovers.live/wp-content/uploads/2025/08/troyprofile2.jpg
END:VEVENT
BEGIN:VEVENT
DTSTART;TZID=UTC:20261227T133000
DTEND;TZID=UTC:20261227T133000
DTSTAMP:20260421T192652
CREATED:20260225T183332Z
LAST-MODIFIED:20260225T183339Z
UID:16103-1798378200-1798378200@virginiaisformusiclovers.live
SUMMARY:Troy Breslow at General's Ridge Vineyard
DESCRIPTION:« All Performances\n 				\n				\n				\n				\n							\n						\n				\n				\n				\n					This performance has passed. \n				\n				\n				\n				\n					\n	Dave Goodrich at DuCard Vineyards				\n				\n				\n				\n					\n		\n			January 18\n\n	\n\n	  at  \n\n\n2:00 pm\n\n		\n\n\n\n	\n	  -  \n\n5:00 pm\n\n\n\n	\n				\n				\n				\n				\n					\n	\n	Website:	\n	https://www.davegoodrich.com/tourdates\n\n				\n				\n				\n				\n					\n	\n				\n				\n				\n				\n							Virginia based singer/songwriter/producer/educator Dave Goodrich performs extensively and has more than 15 commercial releases as a solo artist. His December 2\, 2023\, single release Calculating Bar Bee Doll is a tribute to empowered women influencers.\nA handful of the intelligently-crafted songs penned by Goodrich have woven their waves across six continents into more than 100 television shows—including shows hosted by Oprah Winfrey and Martha Stewart—and have been licensed by companies such as Red Bull Media House. His recordings have received radio airplay on commercial\, college\, and internet stations.\nDave has shared bills with other gifted artists such as Jewel\, Angie Aparo\, and Howie Day. He has also performed his songs on television and as part of The No Rules Show\, a theatrical talk show.\nA San Francisco State University music alumnus\, he hosts the podcasts 15 Minutes with Dave Goodrich and Ask Dave How to Music. Dave Goodrich maintains an active online teaching and producing schedule.\n						\n				\n		\n				\n				\n					\n				\n				\n	\n	DuCard Vineyards\n	\n	\n\n40 Gibson Hollow Ln\n	\n		\n		Etlan\,\n\n	VA\n\n	22719\n\n\n\n\n\n	+ Google Map \n\n\n	\n					\n						\n	 \n\n\n	\n	 \n\n\n\n	\n\n\n\n		\n	\n				\n				\n				\n		\n				\n				\n					\n	\n		\n\n	\n	Add to calendar	\n		\n	\n\n		\n			\n									\n	Google Calendar\n\n									\n	iCalendar\n\n									\n	Outlook 365\n\n									\n	Outlook Live\n\n							\n		\n\n		\n	\n\n				\n				\n				\n		\n				\n				\n					\n	\n		\n\n				Melanie Pearl Live at Piccadilly's	\n\n\n		\n	\n		Troy Breslow at Moose Lodge
URL:https://virginiaisformusiclovers.live/events/troy-breslow-at-generals-ridge-vineyard-12/
LOCATION:General’s Ridge Vineyard\, 1618 Weldons Dr\, Hague\, VA\, 22469
ATTACH;FMTTYPE=image/jpeg:https://virginiaisformusiclovers.live/wp-content/uploads/2025/08/troyprofile2.jpg
END:VEVENT
END:VCALENDAR