BEGIN:VCALENDAR
VERSION:2.0
PRODID:-//virginiaisformusiclovers.live - ECPv6.15.20//NONSGML v1.0//EN
CALSCALE:GREGORIAN
METHOD:PUBLISH
X-WR-CALNAME:virginiaisformusiclovers.live
X-ORIGINAL-URL:https://virginiaisformusiclovers.live
X-WR-CALDESC:Events for virginiaisformusiclovers.live
REFRESH-INTERVAL;VALUE=DURATION:PT1H
X-Robots-Tag:noindex
X-PUBLISHED-TTL:PT1H
BEGIN:VTIMEZONE
TZID:UTC
BEGIN:STANDARD
TZOFFSETFROM:+0000
TZOFFSETTO:+0000
TZNAME:UTC
DTSTART:20240101T000000
END:STANDARD
END:VTIMEZONE
BEGIN:VEVENT
DTSTART;TZID=UTC:20250412T090000
DTEND;TZID=UTC:20250412T130000
DTSTAMP:20260421T085345
CREATED:20250316T230400Z
LAST-MODIFIED:20250316T230400Z
UID:8502-1744448400-1744462800@virginiaisformusiclovers.live
SUMMARY:Dave Nemetz at Great Falls Farmer's Market
DESCRIPTION:Dave Nemetz is a seasoned solo acoustic guitarist renowned for his soulful renditions of roots rock classics spanning from the 1960s to contemporary hits. Drawing inspiration from iconic artists such as Bruce Springsteen\, Bob Dylan\, and Tom Petty\, Dave infuses his performances with a timeless charm that resonates with listeners of all ages.
URL:https://virginiaisformusiclovers.live/events/dave-nemetz-at-great-falls-farmers-market/
LOCATION:Great Falls Farmer’s Market\, 778 Walker Rd\, Great Falls\, VA\, 22066
END:VEVENT
BEGIN:VEVENT
DTSTART;TZID=UTC:20250412T143000
DTEND;TZID=UTC:20250412T143000
DTSTAMP:20260421T085345
CREATED:20250216T185200Z
LAST-MODIFIED:20250216T185200Z
UID:8070-1744468200-1744468200@virginiaisformusiclovers.live
SUMMARY:Troy Breslow at General's Ridge Vineyard
DESCRIPTION:Troy Breslow is a Country Music Artist from Hampton Roads\, Virginia. Breslow’s music depicts a young man forging a name for himself in Country Music while maintaining his Jewish Identity. In 2018\, he was recognized Country Artist of The Year by the Veer Music Awards.
URL:https://virginiaisformusiclovers.live/events/troy-breslow-at-generals-ridge-vineyard-3/
LOCATION:General’s Ridge Vineyard\, 1618 Weldons Dr\, Hague\, VA\, 22469
ATTACH;FMTTYPE=image/jpeg:https://virginiaisformusiclovers.live/wp-content/uploads/2023/09/A75P7940-10b1fb47acb257e68a7fca6b62324fc6-scaled-e1721396594201.jpg
END:VEVENT
BEGIN:VEVENT
DTSTART;TZID=UTC:20250413T140000
DTEND;TZID=UTC:20250413T140000
DTSTAMP:20260421T085345
CREATED:20250216T185242Z
LAST-MODIFIED:20250216T185250Z
UID:8073-1744552800-1744552800@virginiaisformusiclovers.live
SUMMARY:Troy Breslow at DuCard Vineyards
DESCRIPTION:Troy Breslow is a Country Music Artist from Hampton Roads\, Virginia. Breslow’s music depicts a young man forging a name for himself in Country Music while maintaining his Jewish Identity. In 2018\, he was recognized Country Artist of The Year by the Veer Music Awards.
URL:https://virginiaisformusiclovers.live/events/troy-breslow-at-ducard-vineyards-3/
LOCATION:DuCard Vineyards\, 40 Gibson Hollow Ln\, Etlan\, VA\, 22719
ATTACH;FMTTYPE=image/jpeg:https://virginiaisformusiclovers.live/wp-content/uploads/2023/09/A75P7940-10b1fb47acb257e68a7fca6b62324fc6-scaled-e1721396594201.jpg
END:VEVENT
BEGIN:VEVENT
DTSTART;TZID=UTC:20250417T180000
DTEND;TZID=UTC:20250417T180000
DTSTAMP:20260421T085345
CREATED:20250216T185510Z
LAST-MODIFIED:20250216T185510Z
UID:8076-1744912800-1744912800@virginiaisformusiclovers.live
SUMMARY:Troy Breslow at Captain Chuck-A-Muck's
DESCRIPTION:Troy Breslow is a Country Music Artist from Hampton Roads\, Virginia. Breslow’s music depicts a young man forging a name for himself in Country Music while maintaining his Jewish Identity. In 2018\, he was recognized Country Artist of The Year by the Veer Music Awards.
URL:https://virginiaisformusiclovers.live/events/troy-breslow-at-captain-chuck-a-mucks/
LOCATION:Captain Chuck-A-Muck’s\, 21088 Marina Rd SUITE 100\, Carrollton\, VA\, 23314
ATTACH;FMTTYPE=image/jpeg:https://virginiaisformusiclovers.live/wp-content/uploads/2023/09/A75P7940-10b1fb47acb257e68a7fca6b62324fc6-scaled-e1721396594201.jpg
END:VEVENT
BEGIN:VEVENT
DTSTART;TZID=UTC:20250418T170000
DTEND;TZID=UTC:20250418T170000
DTSTAMP:20260421T085345
CREATED:20250216T185608Z
LAST-MODIFIED:20250216T185608Z
UID:8079-1744995600-1744995600@virginiaisformusiclovers.live
SUMMARY:Troy Breslow at 1700 Brewing
DESCRIPTION:Troy Breslow is a Country Music Artist from Hampton Roads\, Virginia. Breslow’s music depicts a young man forging a name for himself in Country Music while maintaining his Jewish Identity. In 2018\, he was recognized Country Artist of The Year by the Veer Music Awards.
URL:https://virginiaisformusiclovers.live/events/troy-breslow-at-1700-brewing-4/
LOCATION:1700 Brewing\, 11838 Canon Blvd #400\, Newport News\, VA\, 23606
ATTACH;FMTTYPE=image/jpeg:https://virginiaisformusiclovers.live/wp-content/uploads/2023/09/A75P7940-10b1fb47acb257e68a7fca6b62324fc6-scaled-e1721396594201.jpg
END:VEVENT
BEGIN:VEVENT
DTSTART;TZID=UTC:20250418T190000
DTEND;TZID=UTC:20250418T220000
DTSTAMP:20260421T085345
CREATED:20250316T230550Z
LAST-MODIFIED:20250316T230550Z
UID:8505-1745002800-1745013600@virginiaisformusiclovers.live
SUMMARY:Dave Nemetz at Dynasty Brewing Co.
DESCRIPTION:Dave Nemetz is a seasoned solo acoustic guitarist renowned for his soulful renditions of roots rock classics spanning from the 1960s to contemporary hits. Drawing inspiration from iconic artists such as Bruce Springsteen\, Bob Dylan\, and Tom Petty\, Dave infuses his performances with a timeless charm that resonates with listeners of all ages.
URL:https://virginiaisformusiclovers.live/events/dave-nemetz-at-dynasty-brewing-co/
LOCATION:Dynasty Brewing\, 21140 Ashburn Crossing Dr suite 130-135\, Ashburn\, VA\, 20147
END:VEVENT
BEGIN:VEVENT
DTSTART;TZID=UTC:20250419T130000
DTEND;TZID=UTC:20250419T160000
DTSTAMP:20260421T085345
CREATED:20250223T223936Z
LAST-MODIFIED:20250223T223936Z
UID:8327-1745067600-1745078400@virginiaisformusiclovers.live
SUMMARY:Shae Parker at Reitano Vineyards
DESCRIPTION:Whether he’s writing songs along the banks of the Shenandoah River at the base of the Blue Ridge Mountains of Virginia\, recording next to the Mississippi River in Memphis\, Tennessee or performing somewhere in between Shae’s music invokes roots\, rock\, folk\, country and blues and is pure Americana from a genuine source.
URL:https://virginiaisformusiclovers.live/events/shae-parker-at-reitano-vineyards-4/
LOCATION:Reitano Vineyards\, Burke Rd\, Front Royal\, VA\, 22630
ATTACH;FMTTYPE=image/jpeg:https://virginiaisformusiclovers.live/wp-content/uploads/2024/07/1721403833422-bea706da-a536-4f88-8d24-6f25d6cd3ac4_1-e1721403934899.jpg
END:VEVENT
BEGIN:VEVENT
DTSTART;TZID=UTC:20250419T170000
DTEND;TZID=UTC:20250419T170000
DTSTAMP:20260421T085345
CREATED:20250216T185751Z
LAST-MODIFIED:20250216T185751Z
UID:8083-1745082000-1745082000@virginiaisformusiclovers.live
SUMMARY:Troy Breslow at Coastal Fermentory
DESCRIPTION:Troy Breslow is a Country Music Artist from Hampton Roads\, Virginia. Breslow’s music depicts a young man forging a name for himself in Country Music while maintaining his Jewish Identity. In 2018\, he was recognized Country Artist of The Year by the Veer Music Awards.
URL:https://virginiaisformusiclovers.live/events/troy-breslow-at-coastal-fermentory-7/
LOCATION:Coastal Fermentory\, 206 23rd St B\, Newport News\, VA\, 23607
ATTACH;FMTTYPE=image/jpeg:https://virginiaisformusiclovers.live/wp-content/uploads/2023/09/A75P7940-10b1fb47acb257e68a7fca6b62324fc6-scaled-e1721396594201.jpg
END:VEVENT
BEGIN:VEVENT
DTSTART;TZID=UTC:20250419T173000
DTEND;TZID=UTC:20250419T203000
DTSTAMP:20260421T085345
CREATED:20250316T230822Z
LAST-MODIFIED:20250316T230822Z
UID:8509-1745083800-1745094600@virginiaisformusiclovers.live
SUMMARY:Dave Nemetz at Full Distance Brewing
DESCRIPTION:Dave Nemetz is a seasoned solo acoustic guitarist renowned for his soulful renditions of roots rock classics spanning from the 1960s to contemporary hits. Drawing inspiration from iconic artists such as Bruce Springsteen\, Bob Dylan\, and Tom Petty\, Dave infuses his performances with a timeless charm that resonates with listeners of all ages.
URL:https://virginiaisformusiclovers.live/events/dave-nemetz-at-full-distance-brewing-2/
LOCATION:Full Distance Brewing\, 650 Corporate Dr #101\, Stafford\, VA\, 22554
END:VEVENT
BEGIN:VEVENT
DTSTART;TZID=UTC:20250419T180000
DTEND;TZID=UTC:20250419T190000
DTSTAMP:20260421T085345
CREATED:20250223T224125Z
LAST-MODIFIED:20250223T224125Z
UID:8330-1745085600-1745089200@virginiaisformusiclovers.live
SUMMARY:Shae Parker at Green Growers VA
DESCRIPTION:Whether he’s writing songs along the banks of the Shenandoah River at the base of the Blue Ridge Mountains of Virginia\, recording next to the Mississippi River in Memphis\, Tennessee or performing somewhere in between Shae’s music invokes roots\, rock\, folk\, country and blues and is pure Americana from a genuine source.
URL:https://virginiaisformusiclovers.live/events/shae-parker-at-green-growers-va/
LOCATION:Green Growers VA\, 501 N Commerce Ave\, Front Royal\, VA\, 22630
ATTACH;FMTTYPE=image/jpeg:https://virginiaisformusiclovers.live/wp-content/uploads/2024/07/1721403833422-bea706da-a536-4f88-8d24-6f25d6cd3ac4_1-e1721403934899.jpg
END:VEVENT
BEGIN:VEVENT
DTSTART;TZID=UTC:20250419T200000
DTEND;TZID=UTC:20250419T200000
DTSTAMP:20260421T085345
CREATED:20241215T200255Z
LAST-MODIFIED:20241215T200255Z
UID:7597-1745092800-1745092800@virginiaisformusiclovers.live
SUMMARY:Melanie Pearl at The Half Note Lounge
DESCRIPTION:Melanie Pearl is a solo act who has performed across the Shenandoah Valley for the past 10 years with her keyboard\, ukulele\, and mic in tow. With a deep passion for music and a penchant for connecting with others\, Melanie has curated a large repertoire of music curtailing each set to different audiences and their requests. \nMost describe her style as “popular hits throughout the decades” as she performs many of the great hit songs from artists like Janis Joplin\, Dolly Parton\, Amy Winehouse\, Adele\, and several others. \nYou can find Melanie playing at venues like Valerie Hill Vineyard & Winery\, The Half Note Lounge\, Bear Chase Brewing Co.\, Briede Family Vineyards\, and other establishments across the northern Virginia area.
URL:https://virginiaisformusiclovers.live/events/melanie-pearl-at-the-half-note-lounge-4/
LOCATION:The Half Note Lounge\, 103 E Piccadilly St\, Winchester\, VA\, 22601
ATTACH;FMTTYPE=image/jpeg:https://virginiaisformusiclovers.live/wp-content/uploads/2024/02/melaniepearl-1.jpg
END:VEVENT
BEGIN:VEVENT
DTSTART;TZID=UTC:20250424T190000
DTEND;TZID=UTC:20250424T190000
DTSTAMP:20260421T085345
CREATED:20250216T185940Z
LAST-MODIFIED:20250216T185940Z
UID:8086-1745521200-1745521200@virginiaisformusiclovers.live
SUMMARY:Troy Breslow at Zeiders American Dream Theater
DESCRIPTION:Troy Breslow is a Country Music Artist from Hampton Roads\, Virginia. Breslow’s music depicts a young man forging a name for himself in Country Music while maintaining his Jewish Identity. In 2018\, he was recognized Country Artist of The Year by the Veer Music Awards.
URL:https://virginiaisformusiclovers.live/events/troy-breslow-at-zeiders-american-dream-theater/
LOCATION:Zeiders American Dream Theater\, 4509 Commerce St\, Virginia Beach\, VA\, 23462
ATTACH;FMTTYPE=image/jpeg:https://virginiaisformusiclovers.live/wp-content/uploads/2023/09/A75P7940-10b1fb47acb257e68a7fca6b62324fc6-scaled-e1721396594201.jpg
END:VEVENT
BEGIN:VEVENT
DTSTART;TZID=UTC:20250425T190000
DTEND;TZID=UTC:20250425T190000
DTSTAMP:20260421T085345
CREATED:20241215T192642Z
LAST-MODIFIED:20241215T192642Z
UID:7569-1745607600-1745607600@virginiaisformusiclovers.live
SUMMARY:Karl Stoll at JV's
DESCRIPTION:Karl Stoll and the Danger Zone is an award winning\, butt-rockin’\, electrifyin’\, houserockin’ roots rock & blues band from Northern Virginia. Their most recent album\, The Workhouse\, was nominated for three Wammie awards in 2022\, and was selected by DC Blues Society as Best Self-Produced CD for 2022. The title track received Honorable Mention by the Songwriter’s Association of Washington. For more than 20 years\, they have been playing a unique mix of danceable Americana roots rock featuring the sounds of Chicago\, New Orleans\, Memphis\, Texas and DC\, plus a collection of original songs being played on radio stations across the country.
URL:https://virginiaisformusiclovers.live/events/karl-stoll-at-jvs/
LOCATION:JV’s\, 6666 Arlington Blvd\, Falls Church\, VA\, 22042
ATTACH;FMTTYPE=image/jpeg:https://virginiaisformusiclovers.live/wp-content/uploads/2024/02/karl_stoll-1.jpg
END:VEVENT
BEGIN:VEVENT
DTSTART;TZID=UTC:20250426T180000
DTEND;TZID=UTC:20250426T180000
DTSTAMP:20260421T085345
CREATED:20250301T173210Z
LAST-MODIFIED:20250301T173210Z
UID:8381-1745690400-1745690400@virginiaisformusiclovers.live
SUMMARY:Jacob Paul Allen at Blue Mountain Barrel House
DESCRIPTION:“Appalachian Red Dirt\,” that’s how Jacob Paul Allen describes his style of Country Music. It’s a style and sound that he has crafted on stages large and small from coast to coast for the past 15 years. Jacob captures the audience with an infectious stage presence and reels them into the stories that he tells\, both in his songs and his stage banter. He has released six songs which can be found on Spotify\, Apple Music and other streaming services. You can also find Jacob just about every weekend performing throughout the region as a solo artist or with his full band.\, Jacob Paul Allen & The Flood
URL:https://virginiaisformusiclovers.live/events/jacob-paul-allen-at-blue-mountain-barrel-house-2/
LOCATION:Blue Mountain Barrel House & Smokin’ Barrel Restaurant\, 495 Cooperative Way\, Arlington\, VA\, 22922
END:VEVENT
BEGIN:VEVENT
DTSTART;TZID=UTC:20250427T090000
DTEND;TZID=UTC:20250427T130000
DTSTAMP:20260421T085345
CREATED:20250316T231105Z
LAST-MODIFIED:20250316T231105Z
UID:8512-1745744400-1745758800@virginiaisformusiclovers.live
SUMMARY:Dave Nemetz at EatLoco Farmers Market
DESCRIPTION:Dave Nemetz is a seasoned solo acoustic guitarist renowned for his soulful renditions of roots rock classics spanning from the 1960s to contemporary hits. Drawing inspiration from iconic artists such as Bruce Springsteen\, Bob Dylan\, and Tom Petty\, Dave infuses his performances with a timeless charm that resonates with listeners of all ages.
URL:https://virginiaisformusiclovers.live/events/dave-nemetz-at-eatloco-farmers-market/
LOCATION:EatLoco Farmer’s Market\, 42395 Ryan Rd\, Brambleton\, VA\, 20148
END:VEVENT
BEGIN:VEVENT
DTSTART;TZID=UTC:20250430T180000
DTEND;TZID=UTC:20250430T210000
DTSTAMP:20260421T085345
CREATED:20250223T224229Z
LAST-MODIFIED:20250223T224229Z
UID:8333-1746036000-1746046800@virginiaisformusiclovers.live
SUMMARY:Shae Parker at Reitano Vineyards
DESCRIPTION:Whether he’s writing songs along the banks of the Shenandoah River at the base of the Blue Ridge Mountains of Virginia\, recording next to the Mississippi River in Memphis\, Tennessee or performing somewhere in between Shae’s music invokes roots\, rock\, folk\, country and blues and is pure Americana from a genuine source.
URL:https://virginiaisformusiclovers.live/events/shae-parker-at-reitano-vineyards-5/
LOCATION:Reitano Vineyards\, Burke Rd\, Front Royal\, VA\, 22630
ATTACH;FMTTYPE=image/jpeg:https://virginiaisformusiclovers.live/wp-content/uploads/2024/07/1721403833422-bea706da-a536-4f88-8d24-6f25d6cd3ac4_1-e1721403934899.jpg
END:VEVENT
BEGIN:VEVENT
DTSTART;TZID=UTC:20250501T183000
DTEND;TZID=UTC:20250501T183000
DTSTAMP:20260421T085345
CREATED:20250216T190258Z
LAST-MODIFIED:20250216T190258Z
UID:8090-1746124200-1746124200@virginiaisformusiclovers.live
SUMMARY:Troy Breslow at MoMac Brewing Company
DESCRIPTION:Troy Breslow is a Country Music Artist from Hampton Roads\, Virginia. Breslow’s music depicts a young man forging a name for himself in Country Music while maintaining his Jewish Identity. In 2018\, he was recognized Country Artist of The Year by the Veer Music Awards.
URL:https://virginiaisformusiclovers.live/events/troy-breslow-at-momac-brewing-company-3/
LOCATION:MoMac Brewing Company\, 3228 Academy Ave\, Portsmouth\, VA\, 23703
ATTACH;FMTTYPE=image/jpeg:https://virginiaisformusiclovers.live/wp-content/uploads/2023/09/A75P7940-10b1fb47acb257e68a7fca6b62324fc6-scaled-e1721396594201.jpg
END:VEVENT
BEGIN:VEVENT
DTSTART;TZID=UTC:20250502T180000
DTEND;TZID=UTC:20250502T180000
DTSTAMP:20260421T085345
CREATED:20250216T190413Z
LAST-MODIFIED:20250216T190413Z
UID:8093-1746208800-1746208800@virginiaisformusiclovers.live
SUMMARY:Troy Breslow at Three Roads Brewing
DESCRIPTION:Troy Breslow is a Country Music Artist from Hampton Roads\, Virginia. Breslow’s music depicts a young man forging a name for himself in Country Music while maintaining his Jewish Identity. In 2018\, he was recognized Country Artist of The Year by the Veer Music Awards.
URL:https://virginiaisformusiclovers.live/events/troy-breslow-at-three-roads-brewing-3/
LOCATION:Three Roads Brewing\, 1300 Court St\, Lynchburg\, VA\, 24504
ATTACH;FMTTYPE=image/jpeg:https://virginiaisformusiclovers.live/wp-content/uploads/2023/09/A75P7940-10b1fb47acb257e68a7fca6b62324fc6-scaled-e1721396594201.jpg
END:VEVENT
BEGIN:VEVENT
DTSTART;TZID=UTC:20250503T090000
DTEND;TZID=UTC:20250503T090000
DTSTAMP:20260421T085345
CREATED:20250222T200531Z
LAST-MODIFIED:20250222T200531Z
UID:8170-1746262800-1746262800@virginiaisformusiclovers.live
SUMMARY:Joshua Luongo at Culpepper Downtown Farmer's Market
DESCRIPTION:Joshua Luongo is a Virginia Based Folk/Americana songwriter and performer. Joshua’s music combines hopeful\, upbeat melodies with contemplative and thoughtful lyrics. Joshua and his band have been building momentum throughout central Virginia with intimate live performances and a growing repertoire of original songs.
URL:https://virginiaisformusiclovers.live/events/joshua-luongo-at-culpepper-downtown-farmers-market/
LOCATION:Culpepper Downtown Farmer’s Market\, 318 S West St\, Culpeper\, VA\, 22701
ATTACH;FMTTYPE=image/jpeg:https://virginiaisformusiclovers.live/wp-content/uploads/2025/02/joshualuongo-1.jpg
END:VEVENT
BEGIN:VEVENT
DTSTART;TZID=UTC:20250503T090000
DTEND;TZID=UTC:20250503T130000
DTSTAMP:20260421T085345
CREATED:20250316T231212Z
LAST-MODIFIED:20250316T231212Z
UID:8515-1746262800-1746277200@virginiaisformusiclovers.live
SUMMARY:Dave Nemetz at Great Falls Farmers Market
DESCRIPTION:Dave Nemetz is a seasoned solo acoustic guitarist renowned for his soulful renditions of roots rock classics spanning from the 1960s to contemporary hits. Drawing inspiration from iconic artists such as Bruce Springsteen\, Bob Dylan\, and Tom Petty\, Dave infuses his performances with a timeless charm that resonates with listeners of all ages.
URL:https://virginiaisformusiclovers.live/events/dave-nemetz-at-great-falls-farmers-market-2/
LOCATION:Great Falls Farmer’s Market\, 778 Walker Rd\, Great Falls\, VA\, 22066
END:VEVENT
BEGIN:VEVENT
DTSTART;TZID=UTC:20250503T180000
DTEND;TZID=UTC:20250503T180000
DTSTAMP:20260421T085345
CREATED:20250301T173403Z
LAST-MODIFIED:20250301T173403Z
UID:8384-1746295200-1746295200@virginiaisformusiclovers.live
SUMMARY:Jacob Paul Allen at Hardywood Park Craft Brewery
DESCRIPTION:“Appalachian Red Dirt\,” that’s how Jacob Paul Allen describes his style of Country Music. It’s a style and sound that he has crafted on stages large and small from coast to coast for the past 15 years. Jacob captures the audience with an infectious stage presence and reels them into the stories that he tells\, both in his songs and his stage banter. He has released six songs which can be found on Spotify\, Apple Music and other streaming services. You can also find Jacob just about every weekend performing throughout the region as a solo artist or with his full band.\, Jacob Paul Allen & The Flood
URL:https://virginiaisformusiclovers.live/events/jacob-paul-allen-at-hardywood-park-craft-brewery/
LOCATION:Hardywood Park Craft Brewery (Richmond)\, 820 Sanctuary Trail Dr\, Richmond\, VA\, 23238
END:VEVENT
BEGIN:VEVENT
DTSTART;TZID=UTC:20250503T190000
DTEND;TZID=UTC:20250503T190000
DTSTAMP:20260421T085345
CREATED:20250222T200831Z
LAST-MODIFIED:20250222T200831Z
UID:8174-1746298800-1746298800@virginiaisformusiclovers.live
SUMMARY:Joshua Luongo at The Heist
DESCRIPTION:Joshua Luongo is a Virginia Based Folk/Americana songwriter and performer. Joshua’s music combines hopeful\, upbeat melodies with contemplative and thoughtful lyrics. Joshua and his band have been building momentum throughout central Virginia with intimate live performances and a growing repertoire of original songs.
URL:https://virginiaisformusiclovers.live/events/joshua-luongo-at-the-heist/
LOCATION:The Heist\, 102 N Main St\, Bowling Green\, VA\, 22427
ATTACH;FMTTYPE=image/jpeg:https://virginiaisformusiclovers.live/wp-content/uploads/2025/02/joshualuongo-1.jpg
END:VEVENT
BEGIN:VEVENT
DTSTART;TZID=UTC:20250504T120000
DTEND;TZID=UTC:20250504T120000
DTSTAMP:20260421T085345
CREATED:20250216T190515Z
LAST-MODIFIED:20250216T190515Z
UID:8096-1746360000-1746360000@virginiaisformusiclovers.live
SUMMARY:Troy Breslow at Smoke
DESCRIPTION:Troy Breslow is a Country Music Artist from Hampton Roads\, Virginia. Breslow’s music depicts a young man forging a name for himself in Country Music while maintaining his Jewish Identity. In 2018\, he was recognized Country Artist of The Year by the Veer Music Awards.
URL:https://virginiaisformusiclovers.live/events/troy-breslow-at-smoke-7/
LOCATION:Smoke BBQ\, 10900 Warwick Blvd\, Newport News\, VA\, 23601
ATTACH;FMTTYPE=image/jpeg:https://virginiaisformusiclovers.live/wp-content/uploads/2023/09/A75P7940-10b1fb47acb257e68a7fca6b62324fc6-scaled-e1721396594201.jpg
END:VEVENT
BEGIN:VEVENT
DTSTART;TZID=UTC:20250504T140000
DTEND;TZID=UTC:20250504T170000
DTSTAMP:20260421T085345
CREATED:20241007T001051Z
LAST-MODIFIED:20241007T001101Z
UID:6966-1746367200-1746378000@virginiaisformusiclovers.live
SUMMARY:Dave Goodrich at DuCard Vineyards
DESCRIPTION:Virginia based singer\, songwriter\, producer\, and educator Dave Goodrich performs extensively and has more than 15 commercial releases as a solo artist. A handful of the intelligently-crafted songs penned by Goodrich have woven their waves across six continents into more than 100 television shows—including shows hosted by Oprah Winfrey and Martha Stewart—and have been licensed by companies such as Red Bull Media House. His recordings have received radio airplay on commercial\, college\, and internet stations.
URL:https://virginiaisformusiclovers.live/events/dave-goodrich-at-ducard-vineyards-3/
LOCATION:DuCard Vineyards\, 40 Gibson Hollow Ln\, Etlan\, VA\, 22719
ATTACH;FMTTYPE=image/png:https://virginiaisformusiclovers.live/wp-content/uploads/2023/12/DAVEGOODRICH-987cf1643eee7c200c4f6e8bb1b4a8d6.png
END:VEVENT
BEGIN:VEVENT
DTSTART;TZID=UTC:20250505T000000
DTEND;TZID=UTC:20250505T000000
DTSTAMP:20260421T085345
CREATED:20250505T145044Z
LAST-MODIFIED:20250505T150234Z
UID:9650-1746403200-1746403200@virginiaisformusiclovers.live
SUMMARY:Rebecca Porter at Rooster Walk Music & Arts Festival
DESCRIPTION:Rebecca Porter embodies the soulful\, lonesome sound of the Shenandoah Valley. After a decade of honing her craft as the frontwoman of local cover bands\, she transformed pandemic loneliness into two EPs – “Prime Rainbow Conditions” and “Queen of the Local”\, the latter of which was successfully crowdfunded in March 2023. With completely independent legwork\, Porter’s music is making rounds nationally and internationally. Audiences react wonderfully to Porter’s fusion of honky tonk and singer-songwriter sounds performed solo or with her band\, The Rhinestone Roses. Most recently\, Porter was inducted into Rissi Palmer’s Color Me Country Class of 2024.
URL:https://virginiaisformusiclovers.live/events/rebecca-porter-at-rooster-walk-music-arts-festival/
LOCATION:VA
ATTACH;FMTTYPE=image/jpeg:https://virginiaisformusiclovers.live/wp-content/uploads/2024/04/RebeccaPorter2.jpg
END:VEVENT
BEGIN:VEVENT
DTSTART;TZID=UTC:20250508T190000
DTEND;TZID=UTC:20250508T190000
DTSTAMP:20260421T085345
CREATED:20250301T173712Z
LAST-MODIFIED:20250301T173712Z
UID:8387-1746730800-1746730800@virginiaisformusiclovers.live
SUMMARY:Jacob Paul Allen at Harry's at Hofheimer
DESCRIPTION:“Appalachian Red Dirt\,” that’s how Jacob Paul Allen describes his style of Country Music. It’s a style and sound that he has crafted on stages large and small from coast to coast for the past 15 years. Jacob captures the audience with an infectious stage presence and reels them into the stories that he tells\, both in his songs and his stage banter. He has released six songs which can be found on Spotify\, Apple Music and other streaming services. You can also find Jacob just about every weekend performing throughout the region as a solo artist or with his full band.\, Jacob Paul Allen & The Flood
URL:https://virginiaisformusiclovers.live/events/jacob-paul-allen-at-harrys-at-hofheimer/
LOCATION:Harry’s at Hofheimer\, 2818 W Broad St\, Richmond\, VA\, 23230
END:VEVENT
BEGIN:VEVENT
DTSTART;TZID=UTC:20250509T180000
DTEND;TZID=UTC:20250509T180000
DTSTAMP:20260421T085345
CREATED:20250216T190620Z
LAST-MODIFIED:20250216T190620Z
UID:8099-1746813600-1746813600@virginiaisformusiclovers.live
SUMMARY:Troy Breslow at Nansemond Brewing Station
DESCRIPTION:Troy Breslow is a Country Music Artist from Hampton Roads\, Virginia. Breslow’s music depicts a young man forging a name for himself in Country Music while maintaining his Jewish Identity. In 2018\, he was recognized Country Artist of The Year by the Veer Music Awards.
URL:https://virginiaisformusiclovers.live/events/troy-breslow-at-nansemond-brewing-station-3/
LOCATION:Nansemond Brewing Station\, 212 E Washington St\, Suffolk\, VA\, 23434
ATTACH;FMTTYPE=image/jpeg:https://virginiaisformusiclovers.live/wp-content/uploads/2023/09/A75P7940-10b1fb47acb257e68a7fca6b62324fc6-scaled-e1721396594201.jpg
END:VEVENT
BEGIN:VEVENT
DTSTART;TZID=UTC:20250509T180000
DTEND;TZID=UTC:20250509T180000
DTSTAMP:20260421T085345
CREATED:20250301T174050Z
LAST-MODIFIED:20250301T174050Z
UID:8390-1746813600-1746813600@virginiaisformusiclovers.live
SUMMARY:Jacob Paul Allen at Cave Hill Farms Brewery
DESCRIPTION:“Appalachian Red Dirt\,” that’s how Jacob Paul Allen describes his style of Country Music. It’s a style and sound that he has crafted on stages large and small from coast to coast for the past 15 years. Jacob captures the audience with an infectious stage presence and reels them into the stories that he tells\, both in his songs and his stage banter. He has released six songs which can be found on Spotify\, Apple Music and other streaming services. You can also find Jacob just about every weekend performing throughout the region as a solo artist or with his full band.\, Jacob Paul Allen & The Flood
URL:https://virginiaisformusiclovers.live/events/jacob-paul-allen-at-cave-hill-farms-brewery/
LOCATION:Cave Hill Farms Brewery\, 1001 Jacob Burner Dr\, McGaheysville\, VA\, 22840
END:VEVENT
BEGIN:VEVENT
DTSTART;TZID=UTC:20250509T180000
DTEND;TZID=UTC:20250509T210000
DTSTAMP:20260421T085345
CREATED:20250316T231452Z
LAST-MODIFIED:20250316T231452Z
UID:8518-1746813600-1746824400@virginiaisformusiclovers.live
SUMMARY:Dave Nemetz at Route 7 Brewing
DESCRIPTION:Dave Nemetz is a seasoned solo acoustic guitarist renowned for his soulful renditions of roots rock classics spanning from the 1960s to contemporary hits. Drawing inspiration from iconic artists such as Bruce Springsteen\, Bob Dylan\, and Tom Petty\, Dave infuses his performances with a timeless charm that resonates with listeners of all ages.
URL:https://virginiaisformusiclovers.live/events/dave-nemetz-at-route-7-brewing/
LOCATION:Route 7 Brewing\, 20051 Riverside Cmns Plz Unit 148\, Ashburn\, VA\, 20147
END:VEVENT
BEGIN:VEVENT
DTSTART;TZID=UTC:20250509T190000
DTEND;TZID=UTC:20250509T220000
DTSTAMP:20260421T085345
CREATED:20250505T151956Z
LAST-MODIFIED:20250505T151956Z
UID:9665-1746817200-1746828000@virginiaisformusiclovers.live
SUMMARY:Meisha Herron at Paladin Bar
DESCRIPTION:Meisha Herron Is a seasoned musician (Guitar\, bass\, vocals) from Chicago. She started performing in jazz\, soul and blues bands in Chicago in her teens and opened up for Buddy Guy as a solo acoustic artist at his South loop nightclub\, “Legends” where he does a residency every January. Upon visiting the Shenandoah Valley eight years ago\, she fell in love with the scene and found the music scene inviting and vibrant\, so decided to remain and has been performing throughout the region for the past seven years. Meisha is known for curtailing her set list for different audiences and has one of the widest repertoires around. spanning songs from the 1920’s to the present. Look for Meisha at a venue near you and you won’t be disappointed!
URL:https://virginiaisformusiclovers.live/events/meisha-herron-at-paladin-bar/
LOCATION:Paladin Bar & Grill\, 181-A Warrior Dr\, Stephens City\, VA\, 22655
END:VEVENT
END:VCALENDAR