BEGIN:VCALENDAR
VERSION:2.0
PRODID:-//virginiaisformusiclovers.live - ECPv6.15.20//NONSGML v1.0//EN
CALSCALE:GREGORIAN
METHOD:PUBLISH
X-ORIGINAL-URL:https://virginiaisformusiclovers.live
X-WR-CALDESC:Events for virginiaisformusiclovers.live
REFRESH-INTERVAL;VALUE=DURATION:PT1H
X-Robots-Tag:noindex
X-PUBLISHED-TTL:PT1H
BEGIN:VTIMEZONE
TZID:UTC
BEGIN:STANDARD
TZOFFSETFROM:+0000
TZOFFSETTO:+0000
TZNAME:UTC
DTSTART:20250101T000000
END:STANDARD
END:VTIMEZONE
BEGIN:VEVENT
DTSTART;TZID=UTC:20261205T180000
DTEND;TZID=UTC:20261205T210000
DTSTAMP:20260421T065258
CREATED:20251124T211300Z
LAST-MODIFIED:20251124T211310Z
UID:14560-1796493600-1796504400@virginiaisformusiclovers.live
SUMMARY:Dave Nemetz at Water's End Brewery
DESCRIPTION:« All Performances\n 				\n				\n				\n				\n					This performance has passed. \n				\n				\n				\n				\n					\n	Stella Haile at Fiddlin’ Pig				\n				\n				\n				\n					\n		\n			September 23\n\n	\n\n	  at  \n\n\n6:00 pm\n\n		\n\n\n\n	\n	  -  \n\n9:00 pm\n\n\n\n	\n				\n				\n		\n				\n				\n					\n	\n	Website:	\n	https://stellahailemusic.com/shows\n\n				\n				\n				\n				\n				\n					\n	\n				\n				\n				\n				\n									Stella Haile is a singer-songwriter based in Newport News\, VA. Known for her deeply relatable lyrics and soul-stirring performances\, Stella’s music draws listeners into her world\, with a voice that’s impossible to forget. 								\n				\n		\n		\n				\n				\n					\n				\n				\n	\n	Fiddlin’ Pig\n	\n	\n\n100 Main St\n	\n		\n		Smithfield\,\n\n	VA\n\n	23430\n\n\n\n\n\n	+ Google Map \n\n\n	\n					\n						\n	 \n\n\n	\n	 \n\n\n\n	\n\n\n\n		\n	\n				\n				\n				\n				\n		\n		\n				\n				\n					\n	\n		\n\n	\n	Add to calendar	\n		\n	\n\n		\n			\n									\n	Google Calendar\n\n									\n	iCalendar\n\n									\n	Outlook 365\n\n									\n	Outlook Live\n\n							\n		\n\n		\n	\n\n				\n				\n				\n				\n		\n		\n				\n				\n					\n	\n		\n\n				Melanie Pearl at Valerie Hill Winery	\n\n\n		\n	\n		Troy Breslow at Smoke
URL:https://virginiaisformusiclovers.live/events/dave-nemetz-at-waters-end-brewery-5/
LOCATION:Water’s End Brewery (Lake Ridge)\, 12425 Dillingham Square\, Lake Ridge\, VA\, 22192
ATTACH;FMTTYPE=image/png:https://virginiaisformusiclovers.live/wp-content/uploads/2025/07/IMG_1867-d2b0ae14aeaf944c4bceba33e74250372-e1760981866403.png
END:VEVENT
BEGIN:VEVENT
DTSTART;TZID=UTC:20261205T200000
DTEND;TZID=UTC:20261205T200000
DTSTAMP:20260421T065258
CREATED:20260107T174624Z
LAST-MODIFIED:20260107T174630Z
UID:15569-1796500800-1796500800@virginiaisformusiclovers.live
SUMMARY:Melanie Pearl Live at The Half Note Lounge
DESCRIPTION:« All Performances\n 				\n				\n				\n				\n					This performance has passed. \n				\n				\n				\n				\n					\n	Stella Haile at Fiddlin’ Pig				\n				\n				\n				\n					\n		\n			September 23\n\n	\n\n	  at  \n\n\n6:00 pm\n\n		\n\n\n\n	\n	  -  \n\n9:00 pm\n\n\n\n	\n				\n				\n		\n				\n				\n					\n	\n	Website:	\n	https://stellahailemusic.com/shows\n\n				\n				\n				\n				\n				\n					\n	\n				\n				\n				\n				\n									Stella Haile is a singer-songwriter based in Newport News\, VA. Known for her deeply relatable lyrics and soul-stirring performances\, Stella’s music draws listeners into her world\, with a voice that’s impossible to forget. 								\n				\n		\n		\n				\n				\n					\n				\n				\n	\n	Fiddlin’ Pig\n	\n	\n\n100 Main St\n	\n		\n		Smithfield\,\n\n	VA\n\n	23430\n\n\n\n\n\n	+ Google Map \n\n\n	\n					\n						\n	 \n\n\n	\n	 \n\n\n\n	\n\n\n\n		\n	\n				\n				\n				\n				\n		\n		\n				\n				\n					\n	\n		\n\n	\n	Add to calendar	\n		\n	\n\n		\n			\n									\n	Google Calendar\n\n									\n	iCalendar\n\n									\n	Outlook 365\n\n									\n	Outlook Live\n\n							\n		\n\n		\n	\n\n				\n				\n				\n				\n		\n		\n				\n				\n					\n	\n		\n\n				Melanie Pearl at Valerie Hill Winery	\n\n\n		\n	\n		Troy Breslow at Smoke
URL:https://virginiaisformusiclovers.live/events/melanie-pearl-live-at-the-half-note-lounge-5/
LOCATION:The Half Note Lounge\, 103 E Piccadilly St\, Winchester\, VA\, 22601
ATTACH;FMTTYPE=image/jpeg:https://virginiaisformusiclovers.live/wp-content/uploads/2024/02/melaniepearl-1.jpg
END:VEVENT
BEGIN:VEVENT
DTSTART;TZID=UTC:20261206T130000
DTEND;TZID=UTC:20261206T130000
DTSTAMP:20260421T065258
CREATED:20260107T174745Z
LAST-MODIFIED:20260107T174751Z
UID:15574-1796562000-1796562000@virginiaisformusiclovers.live
SUMMARY:Melanie Pearl Live at Barrel Oak Winery
DESCRIPTION:« All Performances\n 				\n				\n				\n				\n					This performance has passed. \n				\n				\n				\n				\n					\n	Stella Haile at Fiddlin’ Pig				\n				\n				\n				\n					\n		\n			September 23\n\n	\n\n	  at  \n\n\n6:00 pm\n\n		\n\n\n\n	\n	  -  \n\n9:00 pm\n\n\n\n	\n				\n				\n		\n				\n				\n					\n	\n	Website:	\n	https://stellahailemusic.com/shows\n\n				\n				\n				\n				\n				\n					\n	\n				\n				\n				\n				\n									Stella Haile is a singer-songwriter based in Newport News\, VA. Known for her deeply relatable lyrics and soul-stirring performances\, Stella’s music draws listeners into her world\, with a voice that’s impossible to forget. 								\n				\n		\n		\n				\n				\n					\n				\n				\n	\n	Fiddlin’ Pig\n	\n	\n\n100 Main St\n	\n		\n		Smithfield\,\n\n	VA\n\n	23430\n\n\n\n\n\n	+ Google Map \n\n\n	\n					\n						\n	 \n\n\n	\n	 \n\n\n\n	\n\n\n\n		\n	\n				\n				\n				\n				\n		\n		\n				\n				\n					\n	\n		\n\n	\n	Add to calendar	\n		\n	\n\n		\n			\n									\n	Google Calendar\n\n									\n	iCalendar\n\n									\n	Outlook 365\n\n									\n	Outlook Live\n\n							\n		\n\n		\n	\n\n				\n				\n				\n				\n		\n		\n				\n				\n					\n	\n		\n\n				Melanie Pearl at Valerie Hill Winery	\n\n\n		\n	\n		Troy Breslow at Smoke
URL:https://virginiaisformusiclovers.live/events/melanie-pearl-live-at-barrel-oak-winery-2/
LOCATION:Barrel Oak Winery\, 3623 Grove Ln\, Delaplane\, VA\, 20144
ATTACH;FMTTYPE=image/jpeg:https://virginiaisformusiclovers.live/wp-content/uploads/2024/02/melaniepearl-1.jpg
END:VEVENT
BEGIN:VEVENT
DTSTART;TZID=UTC:20261210T180000
DTEND;TZID=UTC:20261210T180000
DTSTAMP:20260421T065258
CREATED:20260107T164839Z
LAST-MODIFIED:20260107T164845Z
UID:15396-1796925600-1796925600@virginiaisformusiclovers.live
SUMMARY:Troy Breslow at Smoke
DESCRIPTION:« All Performances\n 				\n				\n				\n				\n					This performance has passed. \n				\n				\n				\n				\n					\n	Stella Haile at Fiddlin’ Pig				\n				\n				\n				\n					\n		\n			September 23\n\n	\n\n	  at  \n\n\n6:00 pm\n\n		\n\n\n\n	\n	  -  \n\n9:00 pm\n\n\n\n	\n				\n				\n		\n				\n				\n					\n	\n	Website:	\n	https://stellahailemusic.com/shows\n\n				\n				\n				\n				\n				\n					\n	\n				\n				\n				\n				\n									Stella Haile is a singer-songwriter based in Newport News\, VA. Known for her deeply relatable lyrics and soul-stirring performances\, Stella’s music draws listeners into her world\, with a voice that’s impossible to forget. 								\n				\n		\n		\n				\n				\n					\n				\n				\n	\n	Fiddlin’ Pig\n	\n	\n\n100 Main St\n	\n		\n		Smithfield\,\n\n	VA\n\n	23430\n\n\n\n\n\n	+ Google Map \n\n\n	\n					\n						\n	 \n\n\n	\n	 \n\n\n\n	\n\n\n\n		\n	\n				\n				\n				\n				\n		\n		\n				\n				\n					\n	\n		\n\n	\n	Add to calendar	\n		\n	\n\n		\n			\n									\n	Google Calendar\n\n									\n	iCalendar\n\n									\n	Outlook 365\n\n									\n	Outlook Live\n\n							\n		\n\n		\n	\n\n				\n				\n				\n				\n		\n		\n				\n				\n					\n	\n		\n\n				Melanie Pearl at Valerie Hill Winery	\n\n\n		\n	\n		Troy Breslow at Smoke
URL:https://virginiaisformusiclovers.live/events/troy-breslow-at-smoke-38/
LOCATION:Smoke BBQ\, 10900 Warwick Blvd\, Newport News\, VA\, 23601
ATTACH;FMTTYPE=image/jpeg:https://virginiaisformusiclovers.live/wp-content/uploads/2025/08/troyprofile2.jpg
END:VEVENT
BEGIN:VEVENT
DTSTART;TZID=UTC:20261218T170000
DTEND;TZID=UTC:20261218T170000
DTSTAMP:20260421T065258
CREATED:20260107T174905Z
LAST-MODIFIED:20260107T174913Z
UID:15580-1797613200-1797613200@virginiaisformusiclovers.live
SUMMARY:Melanie Pearl Live at Briede Family Vineyards
DESCRIPTION:« All Performances\n 				\n				\n				\n				\n					This performance has passed. \n				\n				\n				\n				\n					\n	Stella Haile at Fiddlin’ Pig				\n				\n				\n				\n					\n		\n			September 23\n\n	\n\n	  at  \n\n\n6:00 pm\n\n		\n\n\n\n	\n	  -  \n\n9:00 pm\n\n\n\n	\n				\n				\n		\n				\n				\n					\n	\n	Website:	\n	https://stellahailemusic.com/shows\n\n				\n				\n				\n				\n				\n					\n	\n				\n				\n				\n				\n									Stella Haile is a singer-songwriter based in Newport News\, VA. Known for her deeply relatable lyrics and soul-stirring performances\, Stella’s music draws listeners into her world\, with a voice that’s impossible to forget. 								\n				\n		\n		\n				\n				\n					\n				\n				\n	\n	Fiddlin’ Pig\n	\n	\n\n100 Main St\n	\n		\n		Smithfield\,\n\n	VA\n\n	23430\n\n\n\n\n\n	+ Google Map \n\n\n	\n					\n						\n	 \n\n\n	\n	 \n\n\n\n	\n\n\n\n		\n	\n				\n				\n				\n				\n		\n		\n				\n				\n					\n	\n		\n\n	\n	Add to calendar	\n		\n	\n\n		\n			\n									\n	Google Calendar\n\n									\n	iCalendar\n\n									\n	Outlook 365\n\n									\n	Outlook Live\n\n							\n		\n\n		\n	\n\n				\n				\n				\n				\n		\n		\n				\n				\n					\n	\n		\n\n				Melanie Pearl at Valerie Hill Winery	\n\n\n		\n	\n		Troy Breslow at Smoke
URL:https://virginiaisformusiclovers.live/events/melanie-pearl-live-at-briede-family-vineyards-5/
LOCATION:Briede Family Vineyards\, 450 Green Spring Road\, Winchester\, VA\, 22603
ATTACH;FMTTYPE=image/jpeg:https://virginiaisformusiclovers.live/wp-content/uploads/2024/02/melaniepearl-1.jpg
END:VEVENT
BEGIN:VEVENT
DTSTART;TZID=UTC:20261219T140000
DTEND;TZID=UTC:20261219T140000
DTSTAMP:20260421T065258
CREATED:20260107T175022Z
LAST-MODIFIED:20260107T175027Z
UID:15586-1797688800-1797688800@virginiaisformusiclovers.live
SUMMARY:Melanie Pearl Live at Cave Ridge Vineyards
DESCRIPTION:« All Performances\n 				\n				\n				\n				\n					This performance has passed. \n				\n				\n				\n				\n					\n	Stella Haile at Fiddlin’ Pig				\n				\n				\n				\n					\n		\n			September 23\n\n	\n\n	  at  \n\n\n6:00 pm\n\n		\n\n\n\n	\n	  -  \n\n9:00 pm\n\n\n\n	\n				\n				\n		\n				\n				\n					\n	\n	Website:	\n	https://stellahailemusic.com/shows\n\n				\n				\n				\n				\n				\n					\n	\n				\n				\n				\n				\n									Stella Haile is a singer-songwriter based in Newport News\, VA. Known for her deeply relatable lyrics and soul-stirring performances\, Stella’s music draws listeners into her world\, with a voice that’s impossible to forget. 								\n				\n		\n		\n				\n				\n					\n				\n				\n	\n	Fiddlin’ Pig\n	\n	\n\n100 Main St\n	\n		\n		Smithfield\,\n\n	VA\n\n	23430\n\n\n\n\n\n	+ Google Map \n\n\n	\n					\n						\n	 \n\n\n	\n	 \n\n\n\n	\n\n\n\n		\n	\n				\n				\n				\n				\n		\n		\n				\n				\n					\n	\n		\n\n	\n	Add to calendar	\n		\n	\n\n		\n			\n									\n	Google Calendar\n\n									\n	iCalendar\n\n									\n	Outlook 365\n\n									\n	Outlook Live\n\n							\n		\n\n		\n	\n\n				\n				\n				\n				\n		\n		\n				\n				\n					\n	\n		\n\n				Melanie Pearl at Valerie Hill Winery	\n\n\n		\n	\n		Troy Breslow at Smoke
URL:https://virginiaisformusiclovers.live/events/melanie-pearl-live-at-cave-ridge-vineyards-3/
LOCATION:Cave Ridge Vineyard\, 1476 CONICVILLE ROAD\, Mount Jackson\, VA\, 22842
ATTACH;FMTTYPE=image/jpeg:https://virginiaisformusiclovers.live/wp-content/uploads/2024/02/melaniepearl-1.jpg
END:VEVENT
BEGIN:VEVENT
DTSTART;TZID=UTC:20261220T130000
DTEND;TZID=UTC:20261220T130000
DTSTAMP:20260421T065258
CREATED:20260107T165045Z
LAST-MODIFIED:20260107T165051Z
UID:15401-1797771600-1797771600@virginiaisformusiclovers.live
SUMMARY:Troy Breslow at Saudé Creek Vineyards
DESCRIPTION:« All Performances\n 				\n				\n				\n				\n					This performance has passed. \n				\n				\n				\n				\n					\n	Stella Haile at Fiddlin’ Pig				\n				\n				\n				\n					\n		\n			September 23\n\n	\n\n	  at  \n\n\n6:00 pm\n\n		\n\n\n\n	\n	  -  \n\n9:00 pm\n\n\n\n	\n				\n				\n		\n				\n				\n					\n	\n	Website:	\n	https://stellahailemusic.com/shows\n\n				\n				\n				\n				\n				\n					\n	\n				\n				\n				\n				\n									Stella Haile is a singer-songwriter based in Newport News\, VA. Known for her deeply relatable lyrics and soul-stirring performances\, Stella’s music draws listeners into her world\, with a voice that’s impossible to forget. 								\n				\n		\n		\n				\n				\n					\n				\n				\n	\n	Fiddlin’ Pig\n	\n	\n\n100 Main St\n	\n		\n		Smithfield\,\n\n	VA\n\n	23430\n\n\n\n\n\n	+ Google Map \n\n\n	\n					\n						\n	 \n\n\n	\n	 \n\n\n\n	\n\n\n\n		\n	\n				\n				\n				\n				\n		\n		\n				\n				\n					\n	\n		\n\n	\n	Add to calendar	\n		\n	\n\n		\n			\n									\n	Google Calendar\n\n									\n	iCalendar\n\n									\n	Outlook 365\n\n									\n	Outlook Live\n\n							\n		\n\n		\n	\n\n				\n				\n				\n				\n		\n		\n				\n				\n					\n	\n		\n\n				Melanie Pearl at Valerie Hill Winery	\n\n\n		\n	\n		Troy Breslow at Smoke
URL:https://virginiaisformusiclovers.live/events/troy-breslow-at-saude-creek-vineyards-11/
LOCATION:Saudé Creek Vineyards\, 16230 Cooks Mill Rd\, Lanexa\, VA\, 23089
ATTACH;FMTTYPE=image/jpeg:https://virginiaisformusiclovers.live/wp-content/uploads/2025/08/troyprofile2.jpg
END:VEVENT
BEGIN:VEVENT
DTSTART;TZID=UTC:20261227T133000
DTEND;TZID=UTC:20261227T133000
DTSTAMP:20260421T065258
CREATED:20260225T183332Z
LAST-MODIFIED:20260225T183339Z
UID:16103-1798378200-1798378200@virginiaisformusiclovers.live
SUMMARY:Troy Breslow at General's Ridge Vineyard
DESCRIPTION:« All Performances\n 				\n				\n				\n				\n					This performance has passed. \n				\n				\n				\n				\n					\n	Stella Haile at Fiddlin’ Pig				\n				\n				\n				\n					\n		\n			September 23\n\n	\n\n	  at  \n\n\n6:00 pm\n\n		\n\n\n\n	\n	  -  \n\n9:00 pm\n\n\n\n	\n				\n				\n		\n				\n				\n					\n	\n	Website:	\n	https://stellahailemusic.com/shows\n\n				\n				\n				\n				\n				\n					\n	\n				\n				\n				\n				\n									Stella Haile is a singer-songwriter based in Newport News\, VA. Known for her deeply relatable lyrics and soul-stirring performances\, Stella’s music draws listeners into her world\, with a voice that’s impossible to forget. 								\n				\n		\n		\n				\n				\n					\n				\n				\n	\n	Fiddlin’ Pig\n	\n	\n\n100 Main St\n	\n		\n		Smithfield\,\n\n	VA\n\n	23430\n\n\n\n\n\n	+ Google Map \n\n\n	\n					\n						\n	 \n\n\n	\n	 \n\n\n\n	\n\n\n\n		\n	\n				\n				\n				\n				\n		\n		\n				\n				\n					\n	\n		\n\n	\n	Add to calendar	\n		\n	\n\n		\n			\n									\n	Google Calendar\n\n									\n	iCalendar\n\n									\n	Outlook 365\n\n									\n	Outlook Live\n\n							\n		\n\n		\n	\n\n				\n				\n				\n				\n		\n		\n				\n				\n					\n	\n		\n\n				Melanie Pearl at Valerie Hill Winery	\n\n\n		\n	\n		Troy Breslow at Smoke
URL:https://virginiaisformusiclovers.live/events/troy-breslow-at-generals-ridge-vineyard-12/
LOCATION:General’s Ridge Vineyard\, 1618 Weldons Dr\, Hague\, VA\, 22469
ATTACH;FMTTYPE=image/jpeg:https://virginiaisformusiclovers.live/wp-content/uploads/2025/08/troyprofile2.jpg
END:VEVENT
END:VCALENDAR