BEGIN:VCALENDAR
VERSION:2.0
PRODID:-//virginiaisformusiclovers.live - ECPv6.15.20//NONSGML v1.0//EN
CALSCALE:GREGORIAN
METHOD:PUBLISH
X-WR-CALNAME:virginiaisformusiclovers.live
X-ORIGINAL-URL:https://virginiaisformusiclovers.live
X-WR-CALDESC:Events for virginiaisformusiclovers.live
REFRESH-INTERVAL;VALUE=DURATION:PT1H
X-Robots-Tag:noindex
X-PUBLISHED-TTL:PT1H
BEGIN:VTIMEZONE
TZID:UTC
BEGIN:STANDARD
TZOFFSETFROM:+0000
TZOFFSETTO:+0000
TZNAME:UTC
DTSTART:20220101T000000
END:STANDARD
END:VTIMEZONE
BEGIN:VEVENT
DTSTART;TZID=UTC:20230922T210000
DTEND;TZID=UTC:20230922T210000
DTSTAMP:20260423T222954
CREATED:20230717T193529Z
LAST-MODIFIED:20230903T001300Z
UID:4040-1695416400-1695416400@virginiaisformusiclovers.live
SUMMARY:The Travelin' Round at Clementine Cafe
DESCRIPTION:« All Performances\n 				\n				\n				\n				\n					This performance has passed. \n				\n				\n				\n				\n					\n	Dave Nemetz at Great Falls Farmers Market				\n				\n				\n				\n					\n		\n			September 6\n\n	\n\n	  at  \n\n\n9:00 am\n\n		\n\n\n\n	\n	  -  \n\n1:00 pm\n\n\n\n	\n				\n				\n		\n				\n				\n					\n	\n	Website:	\n	https://davenemetzmusic.com/home?calendar_page=1#upcoming-schedule\n\n				\n				\n				\n				\n				\n					\n	\n				\n				\n				\n				\n									Dave Nemetz is a seasoned solo acoustic guitarist renowned for his soulful renditions of roots rock classics spanning from the 1960s to contemporary hits. Drawing inspiration from iconic artists such as Bruce Springsteen\, Bob Dylan\, and Tom Petty\, Dave infuses his performances with a timeless charm that resonates with listeners of all ages. 								\n				\n		\n		\n				\n				\n					\n				\n				\n	\n	Great Falls Farmer’s Market\n	\n	\n\n778 Walker Rd\n	\n		\n		Great Falls\,\n\n	VA\n\n	22066\n\n\n\n\n\n	+ Google Map \n\n\n	\n					\n						\n	 \n\n\n	\n	 \n\n\n\n	\n\n\n\n		\n	\n				\n				\n				\n				\n		\n		\n				\n				\n					\n	\n		\n\n	\n	Add to calendar	\n		\n	\n\n		\n			\n									\n	Google Calendar\n\n									\n	iCalendar\n\n									\n	Outlook 365\n\n									\n	Outlook Live\n\n							\n		\n\n		\n	\n\n				\n				\n				\n				\n		\n		\n				\n				\n					\n	\n		\n\n				Jeremy Rodgers and the Helltown Riffraff at the Catamount Lounge	\n\n\n		\n	\n		Joshua Luongo at Charlottesville City Market
URL:https://virginiaisformusiclovers.live/events/the-travelin-round-at-clementine-cafe/
LOCATION:Clementine Cafe
ATTACH;FMTTYPE=image/jpeg:https://virginiaisformusiclovers.live/wp-content/uploads/2023/07/replacement3_7-1-scaled.jpg
END:VEVENT
BEGIN:VEVENT
DTSTART;TZID=UTC:20230903T180000
DTEND;TZID=UTC:20230903T180000
DTSTAMP:20260423T222954
CREATED:20230810T194219Z
LAST-MODIFIED:20230811T132341Z
UID:4312-1693764000-1693764000@virginiaisformusiclovers.live
SUMMARY:Hot Strings and Cool Breezes\, a Minifest of Americana Music\, featuring The Steel Wheels
DESCRIPTION:« All Performances\n 				\n				\n				\n				\n					This performance has passed. \n				\n				\n				\n				\n					\n	Dave Nemetz at Great Falls Farmers Market				\n				\n				\n				\n					\n		\n			September 6\n\n	\n\n	  at  \n\n\n9:00 am\n\n		\n\n\n\n	\n	  -  \n\n1:00 pm\n\n\n\n	\n				\n				\n		\n				\n				\n					\n	\n	Website:	\n	https://davenemetzmusic.com/home?calendar_page=1#upcoming-schedule\n\n				\n				\n				\n				\n				\n					\n	\n				\n				\n				\n				\n									Dave Nemetz is a seasoned solo acoustic guitarist renowned for his soulful renditions of roots rock classics spanning from the 1960s to contemporary hits. Drawing inspiration from iconic artists such as Bruce Springsteen\, Bob Dylan\, and Tom Petty\, Dave infuses his performances with a timeless charm that resonates with listeners of all ages. 								\n				\n		\n		\n				\n				\n					\n				\n				\n	\n	Great Falls Farmer’s Market\n	\n	\n\n778 Walker Rd\n	\n		\n		Great Falls\,\n\n	VA\n\n	22066\n\n\n\n\n\n	+ Google Map \n\n\n	\n					\n						\n	 \n\n\n	\n	 \n\n\n\n	\n\n\n\n		\n	\n				\n				\n				\n				\n		\n		\n				\n				\n					\n	\n		\n\n	\n	Add to calendar	\n		\n	\n\n		\n			\n									\n	Google Calendar\n\n									\n	iCalendar\n\n									\n	Outlook 365\n\n									\n	Outlook Live\n\n							\n		\n\n		\n	\n\n				\n				\n				\n				\n		\n		\n				\n				\n					\n	\n		\n\n				Jeremy Rodgers and the Helltown Riffraff at the Catamount Lounge	\n\n\n		\n	\n		Joshua Luongo at Charlottesville City Market
URL:https://virginiaisformusiclovers.live/events/hot-strings-and-cool-breezes-a-minifest-of-americana-music-featuring-the-steel-wheels/
LOCATION:Shrine Mont\, 217 Shrine Mont Circle\, Orkney Springs\, VA\, 22845\, United States
ATTACH;FMTTYPE=image/jpeg:https://virginiaisformusiclovers.live/wp-content/uploads/2023/08/the-steel-wheels-band-photo-high-res-1-2022-1.jpg
END:VEVENT
BEGIN:VEVENT
DTSTART;TZID=UTC:20230902T190000
DTEND;TZID=UTC:20230902T190000
DTSTAMP:20260423T222954
CREATED:20230810T193938Z
LAST-MODIFIED:20230811T132210Z
UID:4310-1693681200-1693681200@virginiaisformusiclovers.live
SUMMARY:Legends of Country Rock featuring Pure Prairie League and Firefall
DESCRIPTION:« All Performances\n 				\n				\n				\n				\n					This performance has passed. \n				\n				\n				\n				\n					\n	Dave Nemetz at Great Falls Farmers Market				\n				\n				\n				\n					\n		\n			September 6\n\n	\n\n	  at  \n\n\n9:00 am\n\n		\n\n\n\n	\n	  -  \n\n1:00 pm\n\n\n\n	\n				\n				\n		\n				\n				\n					\n	\n	Website:	\n	https://davenemetzmusic.com/home?calendar_page=1#upcoming-schedule\n\n				\n				\n				\n				\n				\n					\n	\n				\n				\n				\n				\n									Dave Nemetz is a seasoned solo acoustic guitarist renowned for his soulful renditions of roots rock classics spanning from the 1960s to contemporary hits. Drawing inspiration from iconic artists such as Bruce Springsteen\, Bob Dylan\, and Tom Petty\, Dave infuses his performances with a timeless charm that resonates with listeners of all ages. 								\n				\n		\n		\n				\n				\n					\n				\n				\n	\n	Great Falls Farmer’s Market\n	\n	\n\n778 Walker Rd\n	\n		\n		Great Falls\,\n\n	VA\n\n	22066\n\n\n\n\n\n	+ Google Map \n\n\n	\n					\n						\n	 \n\n\n	\n	 \n\n\n\n	\n\n\n\n		\n	\n				\n				\n				\n				\n		\n		\n				\n				\n					\n	\n		\n\n	\n	Add to calendar	\n		\n	\n\n		\n			\n									\n	Google Calendar\n\n									\n	iCalendar\n\n									\n	Outlook 365\n\n									\n	Outlook Live\n\n							\n		\n\n		\n	\n\n				\n				\n				\n				\n		\n		\n				\n				\n					\n	\n		\n\n				Jeremy Rodgers and the Helltown Riffraff at the Catamount Lounge	\n\n\n		\n	\n		Joshua Luongo at Charlottesville City Market
URL:https://virginiaisformusiclovers.live/events/legends-of-country-rock-featuring-pure-prairie-league-and-firefall/
LOCATION:Shrine Mont\, 217 Shrine Mont Circle\, Orkney Springs\, VA\, 22845\, United States
ATTACH;FMTTYPE=image/png:https://virginiaisformusiclovers.live/wp-content/uploads/2023/08/PPL-Firefall-for-AV.png
END:VEVENT
BEGIN:VEVENT
DTSTART;TZID=UTC:20230831T193000
DTEND;TZID=UTC:20230831T193000
DTSTAMP:20260423T222954
CREATED:20230717T192253Z
LAST-MODIFIED:20230811T201559Z
UID:4038-1693510200-1693510200@virginiaisformusiclovers.live
SUMMARY:The Travelin' Round at Jammin' Java
DESCRIPTION:« All Performances\n 				\n				\n				\n				\n					This performance has passed. \n				\n				\n				\n				\n					\n	Dave Nemetz at Great Falls Farmers Market				\n				\n				\n				\n					\n		\n			September 6\n\n	\n\n	  at  \n\n\n9:00 am\n\n		\n\n\n\n	\n	  -  \n\n1:00 pm\n\n\n\n	\n				\n				\n		\n				\n				\n					\n	\n	Website:	\n	https://davenemetzmusic.com/home?calendar_page=1#upcoming-schedule\n\n				\n				\n				\n				\n				\n					\n	\n				\n				\n				\n				\n									Dave Nemetz is a seasoned solo acoustic guitarist renowned for his soulful renditions of roots rock classics spanning from the 1960s to contemporary hits. Drawing inspiration from iconic artists such as Bruce Springsteen\, Bob Dylan\, and Tom Petty\, Dave infuses his performances with a timeless charm that resonates with listeners of all ages. 								\n				\n		\n		\n				\n				\n					\n				\n				\n	\n	Great Falls Farmer’s Market\n	\n	\n\n778 Walker Rd\n	\n		\n		Great Falls\,\n\n	VA\n\n	22066\n\n\n\n\n\n	+ Google Map \n\n\n	\n					\n						\n	 \n\n\n	\n	 \n\n\n\n	\n\n\n\n		\n	\n				\n				\n				\n				\n		\n		\n				\n				\n					\n	\n		\n\n	\n	Add to calendar	\n		\n	\n\n		\n			\n									\n	Google Calendar\n\n									\n	iCalendar\n\n									\n	Outlook 365\n\n									\n	Outlook Live\n\n							\n		\n\n		\n	\n\n				\n				\n				\n				\n		\n		\n				\n				\n					\n	\n		\n\n				Jeremy Rodgers and the Helltown Riffraff at the Catamount Lounge	\n\n\n		\n	\n		Joshua Luongo at Charlottesville City Market
URL:https://virginiaisformusiclovers.live/events/the-travelin-round-at-jammin-java/
LOCATION:Jammin Java\, 227 Maple Ave E\, Vienna\, VA\, United States
ATTACH;FMTTYPE=image/jpeg:https://virginiaisformusiclovers.live/wp-content/uploads/2023/07/replacement3_7-1-scaled.jpg
END:VEVENT
BEGIN:VEVENT
DTSTART;TZID=UTC:20230819T200000
DTEND;TZID=UTC:20230819T200000
DTSTAMP:20260423T222954
CREATED:20230810T193600Z
LAST-MODIFIED:20230811T132316Z
UID:4308-1692475200-1692475200@virginiaisformusiclovers.live
SUMMARY:Steep Canyon Rangers with special guest Larry & Joe
DESCRIPTION:« All Performances\n 				\n				\n				\n				\n					This performance has passed. \n				\n				\n				\n				\n					\n	Dave Nemetz at Great Falls Farmers Market				\n				\n				\n				\n					\n		\n			September 6\n\n	\n\n	  at  \n\n\n9:00 am\n\n		\n\n\n\n	\n	  -  \n\n1:00 pm\n\n\n\n	\n				\n				\n		\n				\n				\n					\n	\n	Website:	\n	https://davenemetzmusic.com/home?calendar_page=1#upcoming-schedule\n\n				\n				\n				\n				\n				\n					\n	\n				\n				\n				\n				\n									Dave Nemetz is a seasoned solo acoustic guitarist renowned for his soulful renditions of roots rock classics spanning from the 1960s to contemporary hits. Drawing inspiration from iconic artists such as Bruce Springsteen\, Bob Dylan\, and Tom Petty\, Dave infuses his performances with a timeless charm that resonates with listeners of all ages. 								\n				\n		\n		\n				\n				\n					\n				\n				\n	\n	Great Falls Farmer’s Market\n	\n	\n\n778 Walker Rd\n	\n		\n		Great Falls\,\n\n	VA\n\n	22066\n\n\n\n\n\n	+ Google Map \n\n\n	\n					\n						\n	 \n\n\n	\n	 \n\n\n\n	\n\n\n\n		\n	\n				\n				\n				\n				\n		\n		\n				\n				\n					\n	\n		\n\n	\n	Add to calendar	\n		\n	\n\n		\n			\n									\n	Google Calendar\n\n									\n	iCalendar\n\n									\n	Outlook 365\n\n									\n	Outlook Live\n\n							\n		\n\n		\n	\n\n				\n				\n				\n				\n		\n		\n				\n				\n					\n	\n		\n\n				Jeremy Rodgers and the Helltown Riffraff at the Catamount Lounge	\n\n\n		\n	\n		Joshua Luongo at Charlottesville City Market
URL:https://virginiaisformusiclovers.live/events/steep-canyon-rangers-with-special-guest-larry-joe-at-svmf/
LOCATION:Shrine Mont\, 217 Shrine Mont Circle\, Orkney Springs\, VA\, 22845\, United States
ATTACH;FMTTYPE=image/jpeg:https://virginiaisformusiclovers.live/wp-content/uploads/2023/08/steep-canyon-rangers-10-22-66-fxd.jpg
END:VEVENT
BEGIN:VEVENT
DTSTART;TZID=UTC:20230818T200000
DTEND;TZID=UTC:20230818T200000
DTSTAMP:20260423T222955
CREATED:20230810T193255Z
LAST-MODIFIED:20230811T132127Z
UID:4306-1692388800-1692388800@virginiaisformusiclovers.live
SUMMARY:Forever Motown
DESCRIPTION:« All Performances\n 				\n				\n				\n				\n					This performance has passed. \n				\n				\n				\n				\n					\n	Dave Nemetz at Great Falls Farmers Market				\n				\n				\n				\n					\n		\n			September 6\n\n	\n\n	  at  \n\n\n9:00 am\n\n		\n\n\n\n	\n	  -  \n\n1:00 pm\n\n\n\n	\n				\n				\n		\n				\n				\n					\n	\n	Website:	\n	https://davenemetzmusic.com/home?calendar_page=1#upcoming-schedule\n\n				\n				\n				\n				\n				\n					\n	\n				\n				\n				\n				\n									Dave Nemetz is a seasoned solo acoustic guitarist renowned for his soulful renditions of roots rock classics spanning from the 1960s to contemporary hits. Drawing inspiration from iconic artists such as Bruce Springsteen\, Bob Dylan\, and Tom Petty\, Dave infuses his performances with a timeless charm that resonates with listeners of all ages. 								\n				\n		\n		\n				\n				\n					\n				\n				\n	\n	Great Falls Farmer’s Market\n	\n	\n\n778 Walker Rd\n	\n		\n		Great Falls\,\n\n	VA\n\n	22066\n\n\n\n\n\n	+ Google Map \n\n\n	\n					\n						\n	 \n\n\n	\n	 \n\n\n\n	\n\n\n\n		\n	\n				\n				\n				\n				\n		\n		\n				\n				\n					\n	\n		\n\n	\n	Add to calendar	\n		\n	\n\n		\n			\n									\n	Google Calendar\n\n									\n	iCalendar\n\n									\n	Outlook 365\n\n									\n	Outlook Live\n\n							\n		\n\n		\n	\n\n				\n				\n				\n				\n		\n		\n				\n				\n					\n	\n		\n\n				Jeremy Rodgers and the Helltown Riffraff at the Catamount Lounge	\n\n\n		\n	\n		Joshua Luongo at Charlottesville City Market
URL:https://virginiaisformusiclovers.live/events/forever-motown-at-svmf/
LOCATION:Shrine Mont\, 217 Shrine Mont Circle\, Orkney Springs\, VA\, 22845\, United States
ATTACH;FMTTYPE=image/jpeg:https://virginiaisformusiclovers.live/wp-content/uploads/2023/08/ForeverMotown.jpg
END:VEVENT
END:VCALENDAR